BEGIN:VCALENDAR
VERSION:2.0
PRODID:-//Live Healthy Miami Gardens - ECPv6.15.20//NONSGML v1.0//EN
CALSCALE:GREGORIAN
METHOD:PUBLISH
X-WR-CALNAME:Live Healthy Miami Gardens
X-ORIGINAL-URL:http://livehealthymiamigardens.com
X-WR-CALDESC:Events for Live Healthy Miami Gardens
REFRESH-INTERVAL;VALUE=DURATION:PT1H
X-Robots-Tag:noindex
X-PUBLISHED-TTL:PT1H
BEGIN:VTIMEZONE
TZID:America/New_York
BEGIN:DAYLIGHT
TZOFFSETFROM:-0500
TZOFFSETTO:-0400
TZNAME:EDT
DTSTART:20250309T070000
END:DAYLIGHT
BEGIN:STANDARD
TZOFFSETFROM:-0400
TZOFFSETTO:-0500
TZNAME:EST
DTSTART:20251102T060000
END:STANDARD
BEGIN:DAYLIGHT
TZOFFSETFROM:-0500
TZOFFSETTO:-0400
TZNAME:EDT
DTSTART:20260308T070000
END:DAYLIGHT
BEGIN:STANDARD
TZOFFSETFROM:-0400
TZOFFSETTO:-0500
TZNAME:EST
DTSTART:20261101T060000
END:STANDARD
BEGIN:DAYLIGHT
TZOFFSETFROM:-0500
TZOFFSETTO:-0400
TZNAME:EDT
DTSTART:20270314T070000
END:DAYLIGHT
BEGIN:STANDARD
TZOFFSETFROM:-0400
TZOFFSETTO:-0500
TZNAME:EST
DTSTART:20271107T060000
END:STANDARD
END:VTIMEZONE
BEGIN:VEVENT
DTSTART;TZID=America/New_York:20260602T150000
DTEND;TZID=America/New_York:20260602T160000
DTSTAMP:20260424T141806
CREATED:20210401T142328Z
LAST-MODIFIED:20210401T142328Z
UID:84889-1780412400-1780416000@livehealthymiamigardens.com
SUMMARY:Let's Talk Health! | Every Tuesday @3pm
DESCRIPTION:Let’s Talk Health!\nJoin our Community Conversations on Building a Healthier Miami Gardens.\nTuesdays at 3PM \nBroadcasts virtually on:\nFacebook Live & Youtube Live
URL:http://livehealthymiamigardens.com/event/lets-talk-health-2026-06-02/
LOCATION:Virtual
ATTACH;FMTTYPE=image/jpeg:http://livehealthymiamigardens.com/livehealthy/wp-content/uploads/2021/04/letstalkhealth-1920x1080-1.jpg
END:VEVENT
BEGIN:VEVENT
DTSTART;TZID=America/New_York:20260609T093000
DTEND;TZID=America/New_York:20260609T233000
DTSTAMP:20260424T141806
CREATED:20220519T171243Z
LAST-MODIFIED:20220519T171243Z
UID:84892-1780997400-1781047800@livehealthymiamigardens.com
SUMMARY:Host Council Meeting
DESCRIPTION:
URL:http://livehealthymiamigardens.com/event/host-council-meeting-3-2026-06-09/
LOCATION:Zoom Conference
END:VEVENT
BEGIN:VEVENT
DTSTART;TZID=America/New_York:20260609T150000
DTEND;TZID=America/New_York:20260609T160000
DTSTAMP:20260424T141806
CREATED:20210401T142328Z
LAST-MODIFIED:20210401T142328Z
UID:84891-1781017200-1781020800@livehealthymiamigardens.com
SUMMARY:Let's Talk Health! | Every Tuesday @3pm
DESCRIPTION:Let’s Talk Health!\nJoin our Community Conversations on Building a Healthier Miami Gardens.\nTuesdays at 3PM \nBroadcasts virtually on:\nFacebook Live & Youtube Live
URL:http://livehealthymiamigardens.com/event/lets-talk-health-2026-06-09/
LOCATION:Virtual
ATTACH;FMTTYPE=image/jpeg:http://livehealthymiamigardens.com/livehealthy/wp-content/uploads/2021/04/letstalkhealth-1920x1080-1.jpg
END:VEVENT
BEGIN:VEVENT
DTSTART;TZID=America/New_York:20260610T173000
DTEND;TZID=America/New_York:20260610T190000
DTSTAMP:20260424T141806
CREATED:20220519T183316Z
LAST-MODIFIED:20220519T183316Z
UID:84893-1781112600-1781118000@livehealthymiamigardens.com
SUMMARY:City Council Meeting
DESCRIPTION:
URL:http://livehealthymiamigardens.com/event/city-council-meeting-2026-06-10/
END:VEVENT
BEGIN:VEVENT
DTSTART;TZID=America/New_York:20260616T150000
DTEND;TZID=America/New_York:20260616T160000
DTSTAMP:20260424T141806
CREATED:20210401T142328Z
LAST-MODIFIED:20210401T142328Z
UID:84894-1781622000-1781625600@livehealthymiamigardens.com
SUMMARY:Let's Talk Health! | Every Tuesday @3pm
DESCRIPTION:Let’s Talk Health!\nJoin our Community Conversations on Building a Healthier Miami Gardens.\nTuesdays at 3PM \nBroadcasts virtually on:\nFacebook Live & Youtube Live
URL:http://livehealthymiamigardens.com/event/lets-talk-health-2026-06-16/
LOCATION:Virtual
ATTACH;FMTTYPE=image/jpeg:http://livehealthymiamigardens.com/livehealthy/wp-content/uploads/2021/04/letstalkhealth-1920x1080-1.jpg
END:VEVENT
BEGIN:VEVENT
DTSTART;TZID=America/New_York:20260617T153000
DTEND;TZID=America/New_York:20260617T163000
DTSTAMP:20260424T141806
CREATED:20220519T195815Z
LAST-MODIFIED:20220519T195815Z
UID:84896-1781710200-1781713800@livehealthymiamigardens.com
SUMMARY:Communication Committee
DESCRIPTION:
URL:http://livehealthymiamigardens.com/event/communication-committee-2026-06-17/
END:VEVENT
BEGIN:VEVENT
DTSTART;TZID=America/New_York:20260618T100000
DTEND;TZID=America/New_York:20260618T120000
DTSTAMP:20260424T141806
CREATED:20220519T172134Z
LAST-MODIFIED:20220519T172134Z
UID:84898-1781776800-1781784000@livehealthymiamigardens.com
SUMMARY:Data and Evaluation Committee Meeting
DESCRIPTION:
URL:http://livehealthymiamigardens.com/event/data-and-evaluation-committee-meeting-3-2026-06-18/
END:VEVENT
BEGIN:VEVENT
DTSTART;TZID=America/New_York:20260618T130000
DTEND;TZID=America/New_York:20260618T150000
DTSTAMP:20260424T141806
CREATED:20220519T171450Z
LAST-MODIFIED:20220519T171450Z
UID:84897-1781787600-1781794800@livehealthymiamigardens.com
SUMMARY:Physical Activity and Nutrition
DESCRIPTION:
URL:http://livehealthymiamigardens.com/event/physical-activity-and-nutrition-2-2026-06-18/
END:VEVENT
BEGIN:VEVENT
DTSTART;TZID=America/New_York:20260618T130000
DTEND;TZID=America/New_York:20260618T150000
DTSTAMP:20260424T141806
CREATED:20220519T171450Z
LAST-MODIFIED:20220519T171450Z
UID:84899-1781787600-1781794800@livehealthymiamigardens.com
SUMMARY:Physical Activity and Nutrition
DESCRIPTION:
URL:http://livehealthymiamigardens.com/event/physical-activity-and-nutrition-2-2024-05-16-2026-06-18/
END:VEVENT
BEGIN:VEVENT
DTSTART;TZID=America/New_York:20260623T150000
DTEND;TZID=America/New_York:20260623T160000
DTSTAMP:20260424T141806
CREATED:20210401T142328Z
LAST-MODIFIED:20210401T142328Z
UID:84900-1782226800-1782230400@livehealthymiamigardens.com
SUMMARY:Let's Talk Health! | Every Tuesday @3pm
DESCRIPTION:Let’s Talk Health!\nJoin our Community Conversations on Building a Healthier Miami Gardens.\nTuesdays at 3PM \nBroadcasts virtually on:\nFacebook Live & Youtube Live
URL:http://livehealthymiamigardens.com/event/lets-talk-health-2026-06-23/
LOCATION:Virtual
ATTACH;FMTTYPE=image/jpeg:http://livehealthymiamigardens.com/livehealthy/wp-content/uploads/2021/04/letstalkhealth-1920x1080-1.jpg
END:VEVENT
BEGIN:VEVENT
DTSTART;TZID=America/New_York:20260624T140000
DTEND;TZID=America/New_York:20260624T150000
DTSTAMP:20260424T141806
CREATED:20220519T172535Z
LAST-MODIFIED:20220519T172535Z
UID:84901-1782309600-1782313200@livehealthymiamigardens.com
SUMMARY:Healthy Retail Subcommittee
DESCRIPTION:
URL:http://livehealthymiamigardens.com/event/healthy-retail-subcommittee-2026-06-24/
END:VEVENT
BEGIN:VEVENT
DTSTART;TZID=America/New_York:20260625T093000
DTEND;TZID=America/New_York:20260625T113000
DTSTAMP:20260424T141806
CREATED:20220519T172342Z
LAST-MODIFIED:20220519T172342Z
UID:84902-1782379800-1782387000@livehealthymiamigardens.com
SUMMARY:Primary Health and Mental Health Sub-Council Meeting
DESCRIPTION:
URL:http://livehealthymiamigardens.com/event/primary-health-and-mental-health-sub-council-meeting-2026-06-25/
END:VEVENT
BEGIN:VEVENT
DTSTART;TZID=America/New_York:20260630T150000
DTEND;TZID=America/New_York:20260630T160000
DTSTAMP:20260424T141806
CREATED:20210401T142328Z
LAST-MODIFIED:20210401T142328Z
UID:84903-1782831600-1782835200@livehealthymiamigardens.com
SUMMARY:Let's Talk Health! | Every Tuesday @3pm
DESCRIPTION:Let’s Talk Health!\nJoin our Community Conversations on Building a Healthier Miami Gardens.\nTuesdays at 3PM \nBroadcasts virtually on:\nFacebook Live & Youtube Live
URL:http://livehealthymiamigardens.com/event/lets-talk-health-2026-06-30/
LOCATION:Virtual
ATTACH;FMTTYPE=image/jpeg:http://livehealthymiamigardens.com/livehealthy/wp-content/uploads/2021/04/letstalkhealth-1920x1080-1.jpg
END:VEVENT
END:VCALENDAR