BEGIN:VCALENDAR
VERSION:2.0
PRODID:-//Live Healthy Miami Gardens - ECPv6.15.20//NONSGML v1.0//EN
CALSCALE:GREGORIAN
METHOD:PUBLISH
X-WR-CALNAME:Live Healthy Miami Gardens
X-ORIGINAL-URL:http://livehealthymiamigardens.com
X-WR-CALDESC:Events for Live Healthy Miami Gardens
REFRESH-INTERVAL;VALUE=DURATION:PT1H
X-Robots-Tag:noindex
X-PUBLISHED-TTL:PT1H
BEGIN:VTIMEZONE
TZID:America/New_York
BEGIN:DAYLIGHT
TZOFFSETFROM:-0500
TZOFFSETTO:-0400
TZNAME:EDT
DTSTART:20230312T070000
END:DAYLIGHT
BEGIN:STANDARD
TZOFFSETFROM:-0400
TZOFFSETTO:-0500
TZNAME:EST
DTSTART:20231105T060000
END:STANDARD
BEGIN:DAYLIGHT
TZOFFSETFROM:-0500
TZOFFSETTO:-0400
TZNAME:EDT
DTSTART:20240310T070000
END:DAYLIGHT
BEGIN:STANDARD
TZOFFSETFROM:-0400
TZOFFSETTO:-0500
TZNAME:EST
DTSTART:20241103T060000
END:STANDARD
BEGIN:DAYLIGHT
TZOFFSETFROM:-0500
TZOFFSETTO:-0400
TZNAME:EDT
DTSTART:20250309T070000
END:DAYLIGHT
BEGIN:STANDARD
TZOFFSETFROM:-0400
TZOFFSETTO:-0500
TZNAME:EST
DTSTART:20251102T060000
END:STANDARD
END:VTIMEZONE
BEGIN:VEVENT
DTSTART;TZID=America/New_York:20240507T150000
DTEND;TZID=America/New_York:20240507T160000
DTSTAMP:20260425T184632
CREATED:20210401T142328Z
LAST-MODIFIED:20220519T201425Z
UID:83805-1715094000-1715097600@livehealthymiamigardens.com
SUMMARY:Let's Talk Health! | Every Tuesday @3pm
DESCRIPTION:Let’s Talk Health!\nJoin our Community Conversations on Building a Healthier Miami Gardens.\nTuesdays at 3PM \nBroadcasts virtually on:\nFacebook Live & Youtube Live
URL:http://livehealthymiamigardens.com/event/lets-talk-health-2024-05-07/
LOCATION:Virtual
ATTACH;FMTTYPE=image/jpeg:http://livehealthymiamigardens.com/livehealthy/wp-content/uploads/2021/04/letstalkhealth-1920x1080-1.jpg
END:VEVENT
BEGIN:VEVENT
DTSTART;TZID=America/New_York:20240508T173000
DTEND;TZID=America/New_York:20240508T190000
DTSTAMP:20260425T184632
CREATED:20220519T183316Z
LAST-MODIFIED:20220519T183316Z
UID:84008-1715189400-1715194800@livehealthymiamigardens.com
SUMMARY:City Council Meeting
DESCRIPTION:
URL:http://livehealthymiamigardens.com/event/city-council-meeting-2024-05-08/
END:VEVENT
BEGIN:VEVENT
DTSTART;TZID=America/New_York:20240514T093000
DTEND;TZID=America/New_York:20240514T233000
DTSTAMP:20260425T184632
CREATED:20220519T171243Z
LAST-MODIFIED:20220519T171243Z
UID:83833-1715679000-1715729400@livehealthymiamigardens.com
SUMMARY:Host Council Meeting
DESCRIPTION:
URL:http://livehealthymiamigardens.com/event/host-council-meeting-3-2024-05-14/
LOCATION:Zoom Conference
END:VEVENT
BEGIN:VEVENT
DTSTART;TZID=America/New_York:20240514T150000
DTEND;TZID=America/New_York:20240514T160000
DTSTAMP:20260425T184632
CREATED:20210401T142328Z
LAST-MODIFIED:20220519T201426Z
UID:83806-1715698800-1715702400@livehealthymiamigardens.com
SUMMARY:Let's Talk Health! | Every Tuesday @3pm
DESCRIPTION:Let’s Talk Health!\nJoin our Community Conversations on Building a Healthier Miami Gardens.\nTuesdays at 3PM \nBroadcasts virtually on:\nFacebook Live & Youtube Live
URL:http://livehealthymiamigardens.com/event/lets-talk-health-2024-05-14/
LOCATION:Virtual
ATTACH;FMTTYPE=image/jpeg:http://livehealthymiamigardens.com/livehealthy/wp-content/uploads/2021/04/letstalkhealth-1920x1080-1.jpg
END:VEVENT
BEGIN:VEVENT
DTSTART;TZID=America/New_York:20240515T153000
DTEND;TZID=America/New_York:20240515T163000
DTSTAMP:20260425T184632
CREATED:20220519T195815Z
LAST-MODIFIED:20220519T195815Z
UID:84038-1715787000-1715790600@livehealthymiamigardens.com
SUMMARY:Communication Committee
DESCRIPTION:
URL:http://livehealthymiamigardens.com/event/communication-committee-2024-05-15/
END:VEVENT
BEGIN:VEVENT
DTSTART;TZID=America/New_York:20240516T100000
DTEND;TZID=America/New_York:20240516T120000
DTSTAMP:20260425T184632
CREATED:20220519T172134Z
LAST-MODIFIED:20220519T172134Z
UID:83911-1715853600-1715860800@livehealthymiamigardens.com
SUMMARY:Data and Evaluation Committee Meeting
DESCRIPTION:
URL:http://livehealthymiamigardens.com/event/data-and-evaluation-committee-meeting-3-2024-05-16/
END:VEVENT
BEGIN:VEVENT
DTSTART;TZID=America/New_York:20240516T130000
DTEND;TZID=America/New_York:20240516T150000
DTSTAMP:20260425T184632
CREATED:20220519T171450Z
LAST-MODIFIED:20220519T200014Z
UID:83859-1715864400-1715871600@livehealthymiamigardens.com
SUMMARY:Physical Activity and Nutrition
DESCRIPTION:
URL:http://livehealthymiamigardens.com/event/physical-activity-and-nutrition-2-2024-05-16/
END:VEVENT
BEGIN:VEVENT
DTSTART;TZID=America/New_York:20240521T150000
DTEND;TZID=America/New_York:20240521T160000
DTSTAMP:20260425T184632
CREATED:20210401T142328Z
LAST-MODIFIED:20210401T142328Z
UID:84244-1716303600-1716307200@livehealthymiamigardens.com
SUMMARY:Let's Talk Health! | Every Tuesday @3pm
DESCRIPTION:Let’s Talk Health!\nJoin our Community Conversations on Building a Healthier Miami Gardens.\nTuesdays at 3PM \nBroadcasts virtually on:\nFacebook Live & Youtube Live
URL:http://livehealthymiamigardens.com/event/lets-talk-health-2024-05-21/
LOCATION:Virtual
ATTACH;FMTTYPE=image/jpeg:http://livehealthymiamigardens.com/livehealthy/wp-content/uploads/2021/04/letstalkhealth-1920x1080-1.jpg
END:VEVENT
BEGIN:VEVENT
DTSTART;TZID=America/New_York:20240522T140000
DTEND;TZID=America/New_York:20240522T150000
DTSTAMP:20260425T184632
CREATED:20220519T172535Z
LAST-MODIFIED:20220519T172535Z
UID:84245-1716386400-1716390000@livehealthymiamigardens.com
SUMMARY:Healthy Retail Subcommittee
DESCRIPTION:
URL:http://livehealthymiamigardens.com/event/healthy-retail-subcommittee-2024-05-22/
END:VEVENT
BEGIN:VEVENT
DTSTART;TZID=America/New_York:20240523T093000
DTEND;TZID=America/New_York:20240523T113000
DTSTAMP:20260425T184632
CREATED:20220519T172342Z
LAST-MODIFIED:20220519T172342Z
UID:84246-1716456600-1716463800@livehealthymiamigardens.com
SUMMARY:Primary Health and Mental Health Sub-Council Meeting
DESCRIPTION:
URL:http://livehealthymiamigardens.com/event/primary-health-and-mental-health-sub-council-meeting-2024-05-23/
END:VEVENT
BEGIN:VEVENT
DTSTART;TZID=America/New_York:20240528T150000
DTEND;TZID=America/New_York:20240528T160000
DTSTAMP:20260425T184632
CREATED:20210401T142328Z
LAST-MODIFIED:20210401T142328Z
UID:84249-1716908400-1716912000@livehealthymiamigardens.com
SUMMARY:Let's Talk Health! | Every Tuesday @3pm
DESCRIPTION:Let’s Talk Health!\nJoin our Community Conversations on Building a Healthier Miami Gardens.\nTuesdays at 3PM \nBroadcasts virtually on:\nFacebook Live & Youtube Live
URL:http://livehealthymiamigardens.com/event/lets-talk-health-2024-05-28/
LOCATION:Virtual
ATTACH;FMTTYPE=image/jpeg:http://livehealthymiamigardens.com/livehealthy/wp-content/uploads/2021/04/letstalkhealth-1920x1080-1.jpg
END:VEVENT
END:VCALENDAR