BEGIN:VCALENDAR
VERSION:2.0
PRODID:-//Live Healthy Miami Gardens - ECPv6.15.20//NONSGML v1.0//EN
CALSCALE:GREGORIAN
METHOD:PUBLISH
X-ORIGINAL-URL:http://livehealthymiamigardens.com
X-WR-CALDESC:Events for Live Healthy Miami Gardens
REFRESH-INTERVAL;VALUE=DURATION:PT1H
X-Robots-Tag:noindex
X-PUBLISHED-TTL:PT1H
BEGIN:VTIMEZONE
TZID:America/New_York
BEGIN:DAYLIGHT
TZOFFSETFROM:-0500
TZOFFSETTO:-0400
TZNAME:EDT
DTSTART:20230312T070000
END:DAYLIGHT
BEGIN:STANDARD
TZOFFSETFROM:-0400
TZOFFSETTO:-0500
TZNAME:EST
DTSTART:20231105T060000
END:STANDARD
BEGIN:DAYLIGHT
TZOFFSETFROM:-0500
TZOFFSETTO:-0400
TZNAME:EDT
DTSTART:20240310T070000
END:DAYLIGHT
BEGIN:STANDARD
TZOFFSETFROM:-0400
TZOFFSETTO:-0500
TZNAME:EST
DTSTART:20241103T060000
END:STANDARD
BEGIN:DAYLIGHT
TZOFFSETFROM:-0500
TZOFFSETTO:-0400
TZNAME:EDT
DTSTART:20250309T070000
END:DAYLIGHT
BEGIN:STANDARD
TZOFFSETFROM:-0400
TZOFFSETTO:-0500
TZNAME:EST
DTSTART:20251102T060000
END:STANDARD
END:VTIMEZONE
BEGIN:VEVENT
DTSTART;TZID=America/New_York:20240102T150000
DTEND;TZID=America/New_York:20240102T160000
DTSTAMP:20260426T000418
CREATED:20210401T142328Z
LAST-MODIFIED:20220519T201356Z
UID:83766-1704207600-1704211200@livehealthymiamigardens.com
SUMMARY:Let's Talk Health! | Every Tuesday @3pm
DESCRIPTION:Let’s Talk Health!\nJoin our Community Conversations on Building a Healthier Miami Gardens.\nTuesdays at 3PM \nBroadcasts virtually on:\nFacebook Live & Youtube Live
URL:http://livehealthymiamigardens.com/event/lets-talk-health-2024-01-02/
LOCATION:Virtual
ATTACH;FMTTYPE=image/jpeg:http://livehealthymiamigardens.com/livehealthy/wp-content/uploads/2021/04/letstalkhealth-1920x1080-1.jpg
END:VEVENT
BEGIN:VEVENT
DTSTART;TZID=America/New_York:20240109T093000
DTEND;TZID=America/New_York:20240109T233000
DTSTAMP:20260426T000418
CREATED:20220519T171243Z
LAST-MODIFIED:20220519T171243Z
UID:83829-1704792600-1704843000@livehealthymiamigardens.com
SUMMARY:Host Council Meeting
DESCRIPTION:
URL:http://livehealthymiamigardens.com/event/host-council-meeting-3-2024-01-09/
LOCATION:Zoom Conference
END:VEVENT
BEGIN:VEVENT
DTSTART;TZID=America/New_York:20240109T150000
DTEND;TZID=America/New_York:20240109T160000
DTSTAMP:20260426T000418
CREATED:20210401T142328Z
LAST-MODIFIED:20220519T201357Z
UID:83768-1704812400-1704816000@livehealthymiamigardens.com
SUMMARY:Let's Talk Health! | Every Tuesday @3pm
DESCRIPTION:Let’s Talk Health!\nJoin our Community Conversations on Building a Healthier Miami Gardens.\nTuesdays at 3PM \nBroadcasts virtually on:\nFacebook Live & Youtube Live
URL:http://livehealthymiamigardens.com/event/lets-talk-health-2024-01-09/
LOCATION:Virtual
ATTACH;FMTTYPE=image/jpeg:http://livehealthymiamigardens.com/livehealthy/wp-content/uploads/2021/04/letstalkhealth-1920x1080-1.jpg
END:VEVENT
BEGIN:VEVENT
DTSTART;TZID=America/New_York:20240110T173000
DTEND;TZID=America/New_York:20240110T190000
DTSTAMP:20260426T000418
CREATED:20220519T183316Z
LAST-MODIFIED:20220519T183316Z
UID:84004-1704907800-1704913200@livehealthymiamigardens.com
SUMMARY:City Council Meeting
DESCRIPTION:
URL:http://livehealthymiamigardens.com/event/city-council-meeting-2024-01-10/
END:VEVENT
BEGIN:VEVENT
DTSTART;TZID=America/New_York:20240116T150000
DTEND;TZID=America/New_York:20240116T160000
DTSTAMP:20260426T000418
CREATED:20210401T142328Z
LAST-MODIFIED:20220519T201357Z
UID:83769-1705417200-1705420800@livehealthymiamigardens.com
SUMMARY:Let's Talk Health! | Every Tuesday @3pm
DESCRIPTION:Let’s Talk Health!\nJoin our Community Conversations on Building a Healthier Miami Gardens.\nTuesdays at 3PM \nBroadcasts virtually on:\nFacebook Live & Youtube Live
URL:http://livehealthymiamigardens.com/event/lets-talk-health-2024-01-16/
LOCATION:Virtual
ATTACH;FMTTYPE=image/jpeg:http://livehealthymiamigardens.com/livehealthy/wp-content/uploads/2021/04/letstalkhealth-1920x1080-1.jpg
END:VEVENT
BEGIN:VEVENT
DTSTART;TZID=America/New_York:20240117T153000
DTEND;TZID=America/New_York:20240117T163000
DTSTAMP:20260426T000418
CREATED:20220519T195815Z
LAST-MODIFIED:20220519T195815Z
UID:84034-1705505400-1705509000@livehealthymiamigardens.com
SUMMARY:Communication Committee
DESCRIPTION:
URL:http://livehealthymiamigardens.com/event/communication-committee-2024-01-17/
END:VEVENT
BEGIN:VEVENT
DTSTART;TZID=America/New_York:20240118T100000
DTEND;TZID=America/New_York:20240118T120000
DTSTAMP:20260426T000418
CREATED:20220519T172134Z
LAST-MODIFIED:20220519T172134Z
UID:83906-1705572000-1705579200@livehealthymiamigardens.com
SUMMARY:Data and Evaluation Committee Meeting
DESCRIPTION:
URL:http://livehealthymiamigardens.com/event/data-and-evaluation-committee-meeting-3-2024-01-18/
END:VEVENT
BEGIN:VEVENT
DTSTART;TZID=America/New_York:20240118T130000
DTEND;TZID=America/New_York:20240118T150000
DTSTAMP:20260426T000418
CREATED:20220519T171450Z
LAST-MODIFIED:20220519T171558Z
UID:83855-1705582800-1705590000@livehealthymiamigardens.com
SUMMARY:Physical Activity and Nutrition
DESCRIPTION:
URL:http://livehealthymiamigardens.com/event/physical-activity-and-nutrition-2-2024-01-18/
END:VEVENT
BEGIN:VEVENT
DTSTART;TZID=America/New_York:20240123T150000
DTEND;TZID=America/New_York:20240123T160000
DTSTAMP:20260426T000418
CREATED:20210401T142328Z
LAST-MODIFIED:20220519T201358Z
UID:83772-1706022000-1706025600@livehealthymiamigardens.com
SUMMARY:Let's Talk Health! | Every Tuesday @3pm
DESCRIPTION:Let’s Talk Health!\nJoin our Community Conversations on Building a Healthier Miami Gardens.\nTuesdays at 3PM \nBroadcasts virtually on:\nFacebook Live & Youtube Live
URL:http://livehealthymiamigardens.com/event/lets-talk-health-2024-01-23/
LOCATION:Virtual
ATTACH;FMTTYPE=image/jpeg:http://livehealthymiamigardens.com/livehealthy/wp-content/uploads/2021/04/letstalkhealth-1920x1080-1.jpg
END:VEVENT
BEGIN:VEVENT
DTSTART;TZID=America/New_York:20240124T140000
DTEND;TZID=America/New_York:20240124T150000
DTSTAMP:20260426T000418
CREATED:20220519T172535Z
LAST-MODIFIED:20220519T182604Z
UID:83957-1706104800-1706108400@livehealthymiamigardens.com
SUMMARY:Healthy Retail Subcommittee
DESCRIPTION:
URL:http://livehealthymiamigardens.com/event/healthy-retail-subcommittee-2024-01-24/
END:VEVENT
BEGIN:VEVENT
DTSTART;TZID=America/New_York:20240125T093000
DTEND;TZID=America/New_York:20240125T113000
DTSTAMP:20260426T000418
CREATED:20220519T172342Z
LAST-MODIFIED:20220519T172342Z
UID:83932-1706175000-1706182200@livehealthymiamigardens.com
SUMMARY:Primary Health and Mental Health Sub-Council Meeting
DESCRIPTION:
URL:http://livehealthymiamigardens.com/event/primary-health-and-mental-health-sub-council-meeting-2024-01-25/
END:VEVENT
BEGIN:VEVENT
DTSTART;TZID=America/New_York:20240130T150000
DTEND;TZID=America/New_York:20240130T160000
DTSTAMP:20260426T000418
CREATED:20210401T142328Z
LAST-MODIFIED:20220519T201359Z
UID:83773-1706626800-1706630400@livehealthymiamigardens.com
SUMMARY:Let's Talk Health! | Every Tuesday @3pm
DESCRIPTION:Let’s Talk Health!\nJoin our Community Conversations on Building a Healthier Miami Gardens.\nTuesdays at 3PM \nBroadcasts virtually on:\nFacebook Live & Youtube Live
URL:http://livehealthymiamigardens.com/event/lets-talk-health-2024-01-30/
LOCATION:Virtual
ATTACH;FMTTYPE=image/jpeg:http://livehealthymiamigardens.com/livehealthy/wp-content/uploads/2021/04/letstalkhealth-1920x1080-1.jpg
END:VEVENT
END:VCALENDAR