BEGIN:VCALENDAR
VERSION:2.0
PRODID:-//Live Healthy Miami Gardens - ECPv6.15.20//NONSGML v1.0//EN
CALSCALE:GREGORIAN
METHOD:PUBLISH
X-ORIGINAL-URL:http://livehealthymiamigardens.com
X-WR-CALDESC:Events for Live Healthy Miami Gardens
REFRESH-INTERVAL;VALUE=DURATION:PT1H
X-Robots-Tag:noindex
X-PUBLISHED-TTL:PT1H
BEGIN:VTIMEZONE
TZID:America/New_York
BEGIN:DAYLIGHT
TZOFFSETFROM:-0500
TZOFFSETTO:-0400
TZNAME:EDT
DTSTART:20250309T070000
END:DAYLIGHT
BEGIN:STANDARD
TZOFFSETFROM:-0400
TZOFFSETTO:-0500
TZNAME:EST
DTSTART:20251102T060000
END:STANDARD
BEGIN:DAYLIGHT
TZOFFSETFROM:-0500
TZOFFSETTO:-0400
TZNAME:EDT
DTSTART:20260308T070000
END:DAYLIGHT
BEGIN:STANDARD
TZOFFSETFROM:-0400
TZOFFSETTO:-0500
TZNAME:EST
DTSTART:20261101T060000
END:STANDARD
BEGIN:DAYLIGHT
TZOFFSETFROM:-0500
TZOFFSETTO:-0400
TZNAME:EDT
DTSTART:20270314T070000
END:DAYLIGHT
BEGIN:STANDARD
TZOFFSETFROM:-0400
TZOFFSETTO:-0500
TZNAME:EST
DTSTART:20271107T060000
END:STANDARD
END:VTIMEZONE
BEGIN:VEVENT
DTSTART;TZID=America/New_York:20260722T140000
DTEND;TZID=America/New_York:20260722T150000
DTSTAMP:20260425T080205
CREATED:20220519T172535Z
LAST-MODIFIED:20220519T172535Z
UID:84915-1784728800-1784732400@livehealthymiamigardens.com
SUMMARY:Healthy Retail Subcommittee
DESCRIPTION:
URL:http://livehealthymiamigardens.com/event/healthy-retail-subcommittee-2026-07-22/
END:VEVENT
BEGIN:VEVENT
DTSTART;TZID=America/New_York:20260723T093000
DTEND;TZID=America/New_York:20260723T113000
DTSTAMP:20260425T080205
CREATED:20220519T172342Z
LAST-MODIFIED:20220519T172342Z
UID:84916-1784799000-1784806200@livehealthymiamigardens.com
SUMMARY:Primary Health and Mental Health Sub-Council Meeting
DESCRIPTION:
URL:http://livehealthymiamigardens.com/event/primary-health-and-mental-health-sub-council-meeting-2026-07-23/
END:VEVENT
BEGIN:VEVENT
DTSTART;TZID=America/New_York:20260728T150000
DTEND;TZID=America/New_York:20260728T160000
DTSTAMP:20260425T080205
CREATED:20210401T142328Z
LAST-MODIFIED:20210401T142328Z
UID:84918-1785250800-1785254400@livehealthymiamigardens.com
SUMMARY:Let's Talk Health! | Every Tuesday @3pm
DESCRIPTION:Let’s Talk Health!\nJoin our Community Conversations on Building a Healthier Miami Gardens.\nTuesdays at 3PM \nBroadcasts virtually on:\nFacebook Live & Youtube Live
URL:http://livehealthymiamigardens.com/event/lets-talk-health-2026-07-28/
LOCATION:Virtual
ATTACH;FMTTYPE=image/jpeg:http://livehealthymiamigardens.com/livehealthy/wp-content/uploads/2021/04/letstalkhealth-1920x1080-1.jpg
END:VEVENT
BEGIN:VEVENT
DTSTART;TZID=America/New_York:20260804T150000
DTEND;TZID=America/New_York:20260804T160000
DTSTAMP:20260425T080205
CREATED:20210401T142328Z
LAST-MODIFIED:20210401T142328Z
UID:84919-1785855600-1785859200@livehealthymiamigardens.com
SUMMARY:Let's Talk Health! | Every Tuesday @3pm
DESCRIPTION:Let’s Talk Health!\nJoin our Community Conversations on Building a Healthier Miami Gardens.\nTuesdays at 3PM \nBroadcasts virtually on:\nFacebook Live & Youtube Live
URL:http://livehealthymiamigardens.com/event/lets-talk-health-2026-08-04/
LOCATION:Virtual
ATTACH;FMTTYPE=image/jpeg:http://livehealthymiamigardens.com/livehealthy/wp-content/uploads/2021/04/letstalkhealth-1920x1080-1.jpg
END:VEVENT
BEGIN:VEVENT
DTSTART;TZID=America/New_York:20260811T093000
DTEND;TZID=America/New_York:20260811T233000
DTSTAMP:20260425T080205
CREATED:20220519T171243Z
LAST-MODIFIED:20220519T171243Z
UID:84921-1786440600-1786491000@livehealthymiamigardens.com
SUMMARY:Host Council Meeting
DESCRIPTION:
URL:http://livehealthymiamigardens.com/event/host-council-meeting-3-2026-08-11/
LOCATION:Zoom Conference
END:VEVENT
BEGIN:VEVENT
DTSTART;TZID=America/New_York:20260811T150000
DTEND;TZID=America/New_York:20260811T160000
DTSTAMP:20260425T080205
CREATED:20210401T142328Z
LAST-MODIFIED:20210401T142328Z
UID:84920-1786460400-1786464000@livehealthymiamigardens.com
SUMMARY:Let's Talk Health! | Every Tuesday @3pm
DESCRIPTION:Let’s Talk Health!\nJoin our Community Conversations on Building a Healthier Miami Gardens.\nTuesdays at 3PM \nBroadcasts virtually on:\nFacebook Live & Youtube Live
URL:http://livehealthymiamigardens.com/event/lets-talk-health-2026-08-11/
LOCATION:Virtual
ATTACH;FMTTYPE=image/jpeg:http://livehealthymiamigardens.com/livehealthy/wp-content/uploads/2021/04/letstalkhealth-1920x1080-1.jpg
END:VEVENT
BEGIN:VEVENT
DTSTART;TZID=America/New_York:20260812T173000
DTEND;TZID=America/New_York:20260812T190000
DTSTAMP:20260425T080205
CREATED:20220519T183316Z
LAST-MODIFIED:20220519T183316Z
UID:84922-1786555800-1786561200@livehealthymiamigardens.com
SUMMARY:City Council Meeting
DESCRIPTION:
URL:http://livehealthymiamigardens.com/event/city-council-meeting-2026-08-12/
END:VEVENT
BEGIN:VEVENT
DTSTART;TZID=America/New_York:20260818T150000
DTEND;TZID=America/New_York:20260818T160000
DTSTAMP:20260425T080205
CREATED:20210401T142328Z
LAST-MODIFIED:20210401T142328Z
UID:84925-1787065200-1787068800@livehealthymiamigardens.com
SUMMARY:Let's Talk Health! | Every Tuesday @3pm
DESCRIPTION:Let’s Talk Health!\nJoin our Community Conversations on Building a Healthier Miami Gardens.\nTuesdays at 3PM \nBroadcasts virtually on:\nFacebook Live & Youtube Live
URL:http://livehealthymiamigardens.com/event/lets-talk-health-2026-08-18/
LOCATION:Virtual
ATTACH;FMTTYPE=image/jpeg:http://livehealthymiamigardens.com/livehealthy/wp-content/uploads/2021/04/letstalkhealth-1920x1080-1.jpg
END:VEVENT
BEGIN:VEVENT
DTSTART;TZID=America/New_York:20260819T153000
DTEND;TZID=America/New_York:20260819T163000
DTSTAMP:20260425T080205
CREATED:20220519T195815Z
LAST-MODIFIED:20220519T195815Z
UID:84926-1787153400-1787157000@livehealthymiamigardens.com
SUMMARY:Communication Committee
DESCRIPTION:
URL:http://livehealthymiamigardens.com/event/communication-committee-2026-08-19/
END:VEVENT
BEGIN:VEVENT
DTSTART;TZID=America/New_York:20260820T100000
DTEND;TZID=America/New_York:20260820T120000
DTSTAMP:20260425T080205
CREATED:20220519T172134Z
LAST-MODIFIED:20220519T172134Z
UID:84928-1787220000-1787227200@livehealthymiamigardens.com
SUMMARY:Data and Evaluation Committee Meeting
DESCRIPTION:
URL:http://livehealthymiamigardens.com/event/data-and-evaluation-committee-meeting-3-2026-08-20/
END:VEVENT
BEGIN:VEVENT
DTSTART;TZID=America/New_York:20260820T130000
DTEND;TZID=America/New_York:20260820T150000
DTSTAMP:20260425T080205
CREATED:20220519T171450Z
LAST-MODIFIED:20220519T171450Z
UID:84927-1787230800-1787238000@livehealthymiamigardens.com
SUMMARY:Physical Activity and Nutrition
DESCRIPTION:
URL:http://livehealthymiamigardens.com/event/physical-activity-and-nutrition-2-2026-08-20/
END:VEVENT
BEGIN:VEVENT
DTSTART;TZID=America/New_York:20260820T130000
DTEND;TZID=America/New_York:20260820T150000
DTSTAMP:20260425T080205
CREATED:20220519T171450Z
LAST-MODIFIED:20220519T171450Z
UID:84929-1787230800-1787238000@livehealthymiamigardens.com
SUMMARY:Physical Activity and Nutrition
DESCRIPTION:
URL:http://livehealthymiamigardens.com/event/physical-activity-and-nutrition-2-2024-05-16-2026-08-20/
END:VEVENT
BEGIN:VEVENT
DTSTART;TZID=America/New_York:20260825T150000
DTEND;TZID=America/New_York:20260825T160000
DTSTAMP:20260425T080205
CREATED:20210401T142328Z
LAST-MODIFIED:20210401T142328Z
UID:84930-1787670000-1787673600@livehealthymiamigardens.com
SUMMARY:Let's Talk Health! | Every Tuesday @3pm
DESCRIPTION:Let’s Talk Health!\nJoin our Community Conversations on Building a Healthier Miami Gardens.\nTuesdays at 3PM \nBroadcasts virtually on:\nFacebook Live & Youtube Live
URL:http://livehealthymiamigardens.com/event/lets-talk-health-2026-08-25/
LOCATION:Virtual
ATTACH;FMTTYPE=image/jpeg:http://livehealthymiamigardens.com/livehealthy/wp-content/uploads/2021/04/letstalkhealth-1920x1080-1.jpg
END:VEVENT
BEGIN:VEVENT
DTSTART;TZID=America/New_York:20260826T140000
DTEND;TZID=America/New_York:20260826T150000
DTSTAMP:20260425T080205
CREATED:20220519T172535Z
LAST-MODIFIED:20220519T172535Z
UID:84931-1787752800-1787756400@livehealthymiamigardens.com
SUMMARY:Healthy Retail Subcommittee
DESCRIPTION:
URL:http://livehealthymiamigardens.com/event/healthy-retail-subcommittee-2026-08-26/
END:VEVENT
BEGIN:VEVENT
DTSTART;TZID=America/New_York:20260827T093000
DTEND;TZID=America/New_York:20260827T113000
DTSTAMP:20260425T080205
CREATED:20220519T172342Z
LAST-MODIFIED:20220519T172342Z
UID:84932-1787823000-1787830200@livehealthymiamigardens.com
SUMMARY:Primary Health and Mental Health Sub-Council Meeting
DESCRIPTION:
URL:http://livehealthymiamigardens.com/event/primary-health-and-mental-health-sub-council-meeting-2026-08-27/
END:VEVENT
BEGIN:VEVENT
DTSTART;TZID=America/New_York:20260901T150000
DTEND;TZID=America/New_York:20260901T160000
DTSTAMP:20260425T080205
CREATED:20210401T142328Z
LAST-MODIFIED:20210401T142328Z
UID:84934-1788274800-1788278400@livehealthymiamigardens.com
SUMMARY:Let's Talk Health! | Every Tuesday @3pm
DESCRIPTION:Let’s Talk Health!\nJoin our Community Conversations on Building a Healthier Miami Gardens.\nTuesdays at 3PM \nBroadcasts virtually on:\nFacebook Live & Youtube Live
URL:http://livehealthymiamigardens.com/event/lets-talk-health-2026-09-01/
LOCATION:Virtual
ATTACH;FMTTYPE=image/jpeg:http://livehealthymiamigardens.com/livehealthy/wp-content/uploads/2021/04/letstalkhealth-1920x1080-1.jpg
END:VEVENT
BEGIN:VEVENT
DTSTART;TZID=America/New_York:20260908T093000
DTEND;TZID=America/New_York:20260908T233000
DTSTAMP:20260425T080205
CREATED:20220519T171243Z
LAST-MODIFIED:20220519T171243Z
UID:84936-1788859800-1788910200@livehealthymiamigardens.com
SUMMARY:Host Council Meeting
DESCRIPTION:
URL:http://livehealthymiamigardens.com/event/host-council-meeting-3-2026-09-08/
LOCATION:Zoom Conference
END:VEVENT
BEGIN:VEVENT
DTSTART;TZID=America/New_York:20260908T150000
DTEND;TZID=America/New_York:20260908T160000
DTSTAMP:20260425T080205
CREATED:20210401T142328Z
LAST-MODIFIED:20210401T142328Z
UID:84935-1788879600-1788883200@livehealthymiamigardens.com
SUMMARY:Let's Talk Health! | Every Tuesday @3pm
DESCRIPTION:Let’s Talk Health!\nJoin our Community Conversations on Building a Healthier Miami Gardens.\nTuesdays at 3PM \nBroadcasts virtually on:\nFacebook Live & Youtube Live
URL:http://livehealthymiamigardens.com/event/lets-talk-health-2026-09-08/
LOCATION:Virtual
ATTACH;FMTTYPE=image/jpeg:http://livehealthymiamigardens.com/livehealthy/wp-content/uploads/2021/04/letstalkhealth-1920x1080-1.jpg
END:VEVENT
BEGIN:VEVENT
DTSTART;TZID=America/New_York:20260909T173000
DTEND;TZID=America/New_York:20260909T190000
DTSTAMP:20260425T080205
CREATED:20220519T183316Z
LAST-MODIFIED:20220519T183316Z
UID:84937-1788975000-1788980400@livehealthymiamigardens.com
SUMMARY:City Council Meeting
DESCRIPTION:
URL:http://livehealthymiamigardens.com/event/city-council-meeting-2026-09-09/
END:VEVENT
BEGIN:VEVENT
DTSTART;TZID=America/New_York:20260915T150000
DTEND;TZID=America/New_York:20260915T160000
DTSTAMP:20260425T080205
CREATED:20210401T142328Z
LAST-MODIFIED:20210401T142328Z
UID:84938-1789484400-1789488000@livehealthymiamigardens.com
SUMMARY:Let's Talk Health! | Every Tuesday @3pm
DESCRIPTION:Let’s Talk Health!\nJoin our Community Conversations on Building a Healthier Miami Gardens.\nTuesdays at 3PM \nBroadcasts virtually on:\nFacebook Live & Youtube Live
URL:http://livehealthymiamigardens.com/event/lets-talk-health-2026-09-15/
LOCATION:Virtual
ATTACH;FMTTYPE=image/jpeg:http://livehealthymiamigardens.com/livehealthy/wp-content/uploads/2021/04/letstalkhealth-1920x1080-1.jpg
END:VEVENT
BEGIN:VEVENT
DTSTART;TZID=America/New_York:20260916T153000
DTEND;TZID=America/New_York:20260916T163000
DTSTAMP:20260425T080205
CREATED:20220519T195815Z
LAST-MODIFIED:20220519T195815Z
UID:84939-1789572600-1789576200@livehealthymiamigardens.com
SUMMARY:Communication Committee
DESCRIPTION:
URL:http://livehealthymiamigardens.com/event/communication-committee-2026-09-16/
END:VEVENT
BEGIN:VEVENT
DTSTART;TZID=America/New_York:20260917T100000
DTEND;TZID=America/New_York:20260917T120000
DTSTAMP:20260425T080205
CREATED:20220519T172134Z
LAST-MODIFIED:20220519T172134Z
UID:84941-1789639200-1789646400@livehealthymiamigardens.com
SUMMARY:Data and Evaluation Committee Meeting
DESCRIPTION:
URL:http://livehealthymiamigardens.com/event/data-and-evaluation-committee-meeting-3-2026-09-17/
END:VEVENT
BEGIN:VEVENT
DTSTART;TZID=America/New_York:20260917T130000
DTEND;TZID=America/New_York:20260917T150000
DTSTAMP:20260425T080205
CREATED:20220519T171450Z
LAST-MODIFIED:20220519T171450Z
UID:84942-1789650000-1789657200@livehealthymiamigardens.com
SUMMARY:Physical Activity and Nutrition
DESCRIPTION:
URL:http://livehealthymiamigardens.com/event/physical-activity-and-nutrition-2-2024-05-16-2026-09-17/
END:VEVENT
BEGIN:VEVENT
DTSTART;TZID=America/New_York:20260917T130000
DTEND;TZID=America/New_York:20260917T150000
DTSTAMP:20260425T080205
CREATED:20220519T171450Z
LAST-MODIFIED:20220519T171450Z
UID:84940-1789650000-1789657200@livehealthymiamigardens.com
SUMMARY:Physical Activity and Nutrition
DESCRIPTION:
URL:http://livehealthymiamigardens.com/event/physical-activity-and-nutrition-2-2026-09-17/
END:VEVENT
BEGIN:VEVENT
DTSTART;TZID=America/New_York:20260922T150000
DTEND;TZID=America/New_York:20260922T160000
DTSTAMP:20260425T080205
CREATED:20210401T142328Z
LAST-MODIFIED:20210401T142328Z
UID:84943-1790089200-1790092800@livehealthymiamigardens.com
SUMMARY:Let's Talk Health! | Every Tuesday @3pm
DESCRIPTION:Let’s Talk Health!\nJoin our Community Conversations on Building a Healthier Miami Gardens.\nTuesdays at 3PM \nBroadcasts virtually on:\nFacebook Live & Youtube Live
URL:http://livehealthymiamigardens.com/event/lets-talk-health-2026-09-22/
LOCATION:Virtual
ATTACH;FMTTYPE=image/jpeg:http://livehealthymiamigardens.com/livehealthy/wp-content/uploads/2021/04/letstalkhealth-1920x1080-1.jpg
END:VEVENT
BEGIN:VEVENT
DTSTART;TZID=America/New_York:20260923T140000
DTEND;TZID=America/New_York:20260923T150000
DTSTAMP:20260425T080205
CREATED:20220519T172535Z
LAST-MODIFIED:20220519T172535Z
UID:84944-1790172000-1790175600@livehealthymiamigardens.com
SUMMARY:Healthy Retail Subcommittee
DESCRIPTION:
URL:http://livehealthymiamigardens.com/event/healthy-retail-subcommittee-2026-09-23/
END:VEVENT
BEGIN:VEVENT
DTSTART;TZID=America/New_York:20260924T093000
DTEND;TZID=America/New_York:20260924T113000
DTSTAMP:20260425T080205
CREATED:20220519T172342Z
LAST-MODIFIED:20220519T172342Z
UID:84945-1790242200-1790249400@livehealthymiamigardens.com
SUMMARY:Primary Health and Mental Health Sub-Council Meeting
DESCRIPTION:
URL:http://livehealthymiamigardens.com/event/primary-health-and-mental-health-sub-council-meeting-2026-09-24/
END:VEVENT
BEGIN:VEVENT
DTSTART;TZID=America/New_York:20260929T150000
DTEND;TZID=America/New_York:20260929T160000
DTSTAMP:20260425T080205
CREATED:20210401T142328Z
LAST-MODIFIED:20210401T142328Z
UID:84947-1790694000-1790697600@livehealthymiamigardens.com
SUMMARY:Let's Talk Health! | Every Tuesday @3pm
DESCRIPTION:Let’s Talk Health!\nJoin our Community Conversations on Building a Healthier Miami Gardens.\nTuesdays at 3PM \nBroadcasts virtually on:\nFacebook Live & Youtube Live
URL:http://livehealthymiamigardens.com/event/lets-talk-health-2026-09-29/
LOCATION:Virtual
ATTACH;FMTTYPE=image/jpeg:http://livehealthymiamigardens.com/livehealthy/wp-content/uploads/2021/04/letstalkhealth-1920x1080-1.jpg
END:VEVENT
BEGIN:VEVENT
DTSTART;TZID=America/New_York:20261006T150000
DTEND;TZID=America/New_York:20261006T160000
DTSTAMP:20260425T080205
CREATED:20210401T142328Z
LAST-MODIFIED:20210401T142328Z
UID:84948-1791298800-1791302400@livehealthymiamigardens.com
SUMMARY:Let's Talk Health! | Every Tuesday @3pm
DESCRIPTION:Let’s Talk Health!\nJoin our Community Conversations on Building a Healthier Miami Gardens.\nTuesdays at 3PM \nBroadcasts virtually on:\nFacebook Live & Youtube Live
URL:http://livehealthymiamigardens.com/event/lets-talk-health-2026-10-06/
LOCATION:Virtual
ATTACH;FMTTYPE=image/jpeg:http://livehealthymiamigardens.com/livehealthy/wp-content/uploads/2021/04/letstalkhealth-1920x1080-1.jpg
END:VEVENT
BEGIN:VEVENT
DTSTART;TZID=America/New_York:20261013T093000
DTEND;TZID=America/New_York:20261013T233000
DTSTAMP:20260425T080205
CREATED:20220519T171243Z
LAST-MODIFIED:20220519T171243Z
UID:84950-1791883800-1791934200@livehealthymiamigardens.com
SUMMARY:Host Council Meeting
DESCRIPTION:
URL:http://livehealthymiamigardens.com/event/host-council-meeting-3-2026-10-13/
LOCATION:Zoom Conference
END:VEVENT
END:VCALENDAR