BEGIN:VCALENDAR
VERSION:2.0
PRODID:-//Live Healthy Miami Gardens - ECPv6.15.20//NONSGML v1.0//EN
CALSCALE:GREGORIAN
METHOD:PUBLISH
X-WR-CALNAME:Live Healthy Miami Gardens
X-ORIGINAL-URL:http://livehealthymiamigardens.com
X-WR-CALDESC:Events for Live Healthy Miami Gardens
REFRESH-INTERVAL;VALUE=DURATION:PT1H
X-Robots-Tag:noindex
X-PUBLISHED-TTL:PT1H
BEGIN:VTIMEZONE
TZID:America/New_York
BEGIN:DAYLIGHT
TZOFFSETFROM:-0500
TZOFFSETTO:-0400
TZNAME:EDT
DTSTART:20240310T070000
END:DAYLIGHT
BEGIN:STANDARD
TZOFFSETFROM:-0400
TZOFFSETTO:-0500
TZNAME:EST
DTSTART:20241103T060000
END:STANDARD
BEGIN:DAYLIGHT
TZOFFSETFROM:-0500
TZOFFSETTO:-0400
TZNAME:EDT
DTSTART:20250309T070000
END:DAYLIGHT
BEGIN:STANDARD
TZOFFSETFROM:-0400
TZOFFSETTO:-0500
TZNAME:EST
DTSTART:20251102T060000
END:STANDARD
BEGIN:DAYLIGHT
TZOFFSETFROM:-0500
TZOFFSETTO:-0400
TZNAME:EDT
DTSTART:20260308T070000
END:DAYLIGHT
BEGIN:STANDARD
TZOFFSETFROM:-0400
TZOFFSETTO:-0500
TZNAME:EST
DTSTART:20261101T060000
END:STANDARD
END:VTIMEZONE
BEGIN:VEVENT
DTSTART;TZID=America/New_York:20250709T173000
DTEND;TZID=America/New_York:20250709T190000
DTSTAMP:20260425T080029
CREATED:20220519T183316Z
LAST-MODIFIED:20220519T183316Z
UID:84578-1752082200-1752087600@livehealthymiamigardens.com
SUMMARY:City Council Meeting
DESCRIPTION:
URL:http://livehealthymiamigardens.com/event/city-council-meeting-2025-07-09/
END:VEVENT
BEGIN:VEVENT
DTSTART;TZID=America/New_York:20250708T150000
DTEND;TZID=America/New_York:20250708T160000
DTSTAMP:20260425T080029
CREATED:20210401T142328Z
LAST-MODIFIED:20210401T142328Z
UID:84575-1751986800-1751990400@livehealthymiamigardens.com
SUMMARY:Let's Talk Health! | Every Tuesday @3pm
DESCRIPTION:Let’s Talk Health!\nJoin our Community Conversations on Building a Healthier Miami Gardens.\nTuesdays at 3PM \nBroadcasts virtually on:\nFacebook Live & Youtube Live
URL:http://livehealthymiamigardens.com/event/lets-talk-health-2025-07-08/
LOCATION:Virtual
ATTACH;FMTTYPE=image/jpeg:http://livehealthymiamigardens.com/livehealthy/wp-content/uploads/2021/04/letstalkhealth-1920x1080-1.jpg
END:VEVENT
BEGIN:VEVENT
DTSTART;TZID=America/New_York:20250708T093000
DTEND;TZID=America/New_York:20250708T233000
DTSTAMP:20260425T080029
CREATED:20220519T171243Z
LAST-MODIFIED:20220519T171243Z
UID:84576-1751967000-1752017400@livehealthymiamigardens.com
SUMMARY:Host Council Meeting
DESCRIPTION:
URL:http://livehealthymiamigardens.com/event/host-council-meeting-3-2025-07-08/
LOCATION:Zoom Conference
END:VEVENT
BEGIN:VEVENT
DTSTART;TZID=America/New_York:20250701T150000
DTEND;TZID=America/New_York:20250701T160000
DTSTAMP:20260425T080029
CREATED:20210401T142328Z
LAST-MODIFIED:20210401T142328Z
UID:84574-1751382000-1751385600@livehealthymiamigardens.com
SUMMARY:Let's Talk Health! | Every Tuesday @3pm
DESCRIPTION:Let’s Talk Health!\nJoin our Community Conversations on Building a Healthier Miami Gardens.\nTuesdays at 3PM \nBroadcasts virtually on:\nFacebook Live & Youtube Live
URL:http://livehealthymiamigardens.com/event/lets-talk-health-2025-07-01/
LOCATION:Virtual
ATTACH;FMTTYPE=image/jpeg:http://livehealthymiamigardens.com/livehealthy/wp-content/uploads/2021/04/letstalkhealth-1920x1080-1.jpg
END:VEVENT
BEGIN:VEVENT
DTSTART;TZID=America/New_York:20250626T093000
DTEND;TZID=America/New_York:20250626T113000
DTSTAMP:20260425T080029
CREATED:20220519T172342Z
LAST-MODIFIED:20220519T172342Z
UID:84573-1750930200-1750937400@livehealthymiamigardens.com
SUMMARY:Primary Health and Mental Health Sub-Council Meeting
DESCRIPTION:
URL:http://livehealthymiamigardens.com/event/primary-health-and-mental-health-sub-council-meeting-2025-06-26/
END:VEVENT
BEGIN:VEVENT
DTSTART;TZID=America/New_York:20250625T140000
DTEND;TZID=America/New_York:20250625T150000
DTSTAMP:20260425T080029
CREATED:20220519T172535Z
LAST-MODIFIED:20220519T172535Z
UID:84572-1750860000-1750863600@livehealthymiamigardens.com
SUMMARY:Healthy Retail Subcommittee
DESCRIPTION:
URL:http://livehealthymiamigardens.com/event/healthy-retail-subcommittee-2025-06-25/
END:VEVENT
BEGIN:VEVENT
DTSTART;TZID=America/New_York:20250624T150000
DTEND;TZID=America/New_York:20250624T160000
DTSTAMP:20260425T080029
CREATED:20210401T142328Z
LAST-MODIFIED:20210401T142328Z
UID:84571-1750777200-1750780800@livehealthymiamigardens.com
SUMMARY:Let's Talk Health! | Every Tuesday @3pm
DESCRIPTION:Let’s Talk Health!\nJoin our Community Conversations on Building a Healthier Miami Gardens.\nTuesdays at 3PM \nBroadcasts virtually on:\nFacebook Live & Youtube Live
URL:http://livehealthymiamigardens.com/event/lets-talk-health-2025-06-24/
LOCATION:Virtual
ATTACH;FMTTYPE=image/jpeg:http://livehealthymiamigardens.com/livehealthy/wp-content/uploads/2021/04/letstalkhealth-1920x1080-1.jpg
END:VEVENT
BEGIN:VEVENT
DTSTART;TZID=America/New_York:20250619T130000
DTEND;TZID=America/New_York:20250619T150000
DTSTAMP:20260425T080029
CREATED:20220519T171450Z
LAST-MODIFIED:20220519T171450Z
UID:84568-1750338000-1750345200@livehealthymiamigardens.com
SUMMARY:Physical Activity and Nutrition
DESCRIPTION:
URL:http://livehealthymiamigardens.com/event/physical-activity-and-nutrition-2-2025-06-19/
END:VEVENT
BEGIN:VEVENT
DTSTART;TZID=America/New_York:20250619T130000
DTEND;TZID=America/New_York:20250619T150000
DTSTAMP:20260425T080029
CREATED:20220519T171450Z
LAST-MODIFIED:20220519T171450Z
UID:84570-1750338000-1750345200@livehealthymiamigardens.com
SUMMARY:Physical Activity and Nutrition
DESCRIPTION:
URL:http://livehealthymiamigardens.com/event/physical-activity-and-nutrition-2-2024-05-16-2025-06-19/
END:VEVENT
BEGIN:VEVENT
DTSTART;TZID=America/New_York:20250619T100000
DTEND;TZID=America/New_York:20250619T120000
DTSTAMP:20260425T080029
CREATED:20220519T172134Z
LAST-MODIFIED:20220519T172134Z
UID:84569-1750327200-1750334400@livehealthymiamigardens.com
SUMMARY:Data and Evaluation Committee Meeting
DESCRIPTION:
URL:http://livehealthymiamigardens.com/event/data-and-evaluation-committee-meeting-3-2025-06-19/
END:VEVENT
BEGIN:VEVENT
DTSTART;TZID=America/New_York:20250618T153000
DTEND;TZID=America/New_York:20250618T163000
DTSTAMP:20260425T080029
CREATED:20220519T195815Z
LAST-MODIFIED:20220519T195815Z
UID:84567-1750260600-1750264200@livehealthymiamigardens.com
SUMMARY:Communication Committee
DESCRIPTION:
URL:http://livehealthymiamigardens.com/event/communication-committee-2025-06-18/
END:VEVENT
BEGIN:VEVENT
DTSTART;TZID=America/New_York:20250617T150000
DTEND;TZID=America/New_York:20250617T160000
DTSTAMP:20260425T080029
CREATED:20210401T142328Z
LAST-MODIFIED:20210401T142328Z
UID:84566-1750172400-1750176000@livehealthymiamigardens.com
SUMMARY:Let's Talk Health! | Every Tuesday @3pm
DESCRIPTION:Let’s Talk Health!\nJoin our Community Conversations on Building a Healthier Miami Gardens.\nTuesdays at 3PM \nBroadcasts virtually on:\nFacebook Live & Youtube Live
URL:http://livehealthymiamigardens.com/event/lets-talk-health-2025-06-17/
LOCATION:Virtual
ATTACH;FMTTYPE=image/jpeg:http://livehealthymiamigardens.com/livehealthy/wp-content/uploads/2021/04/letstalkhealth-1920x1080-1.jpg
END:VEVENT
BEGIN:VEVENT
DTSTART;TZID=America/New_York:20250611T173000
DTEND;TZID=America/New_York:20250611T190000
DTSTAMP:20260425T080029
CREATED:20220519T183316Z
LAST-MODIFIED:20220519T183316Z
UID:84565-1749663000-1749668400@livehealthymiamigardens.com
SUMMARY:City Council Meeting
DESCRIPTION:
URL:http://livehealthymiamigardens.com/event/city-council-meeting-2025-06-11/
END:VEVENT
BEGIN:VEVENT
DTSTART;TZID=America/New_York:20250610T150000
DTEND;TZID=America/New_York:20250610T160000
DTSTAMP:20260425T080029
CREATED:20210401T142328Z
LAST-MODIFIED:20210401T142328Z
UID:84563-1749567600-1749571200@livehealthymiamigardens.com
SUMMARY:Let's Talk Health! | Every Tuesday @3pm
DESCRIPTION:Let’s Talk Health!\nJoin our Community Conversations on Building a Healthier Miami Gardens.\nTuesdays at 3PM \nBroadcasts virtually on:\nFacebook Live & Youtube Live
URL:http://livehealthymiamigardens.com/event/lets-talk-health-2025-06-10/
LOCATION:Virtual
ATTACH;FMTTYPE=image/jpeg:http://livehealthymiamigardens.com/livehealthy/wp-content/uploads/2021/04/letstalkhealth-1920x1080-1.jpg
END:VEVENT
BEGIN:VEVENT
DTSTART;TZID=America/New_York:20250610T093000
DTEND;TZID=America/New_York:20250610T233000
DTSTAMP:20260425T080029
CREATED:20220519T171243Z
LAST-MODIFIED:20220519T171243Z
UID:84564-1749547800-1749598200@livehealthymiamigardens.com
SUMMARY:Host Council Meeting
DESCRIPTION:
URL:http://livehealthymiamigardens.com/event/host-council-meeting-3-2025-06-10/
LOCATION:Zoom Conference
END:VEVENT
BEGIN:VEVENT
DTSTART;TZID=America/New_York:20250603T150000
DTEND;TZID=America/New_York:20250603T160000
DTSTAMP:20260425T080029
CREATED:20210401T142328Z
LAST-MODIFIED:20210401T142328Z
UID:84560-1748962800-1748966400@livehealthymiamigardens.com
SUMMARY:Let's Talk Health! | Every Tuesday @3pm
DESCRIPTION:Let’s Talk Health!\nJoin our Community Conversations on Building a Healthier Miami Gardens.\nTuesdays at 3PM \nBroadcasts virtually on:\nFacebook Live & Youtube Live
URL:http://livehealthymiamigardens.com/event/lets-talk-health-2025-06-03/
LOCATION:Virtual
ATTACH;FMTTYPE=image/jpeg:http://livehealthymiamigardens.com/livehealthy/wp-content/uploads/2021/04/letstalkhealth-1920x1080-1.jpg
END:VEVENT
BEGIN:VEVENT
DTSTART;TZID=America/New_York:20250528T140000
DTEND;TZID=America/New_York:20250528T150000
DTSTAMP:20260425T080029
CREATED:20220519T172535Z
LAST-MODIFIED:20220519T172535Z
UID:84559-1748440800-1748444400@livehealthymiamigardens.com
SUMMARY:Healthy Retail Subcommittee
DESCRIPTION:
URL:http://livehealthymiamigardens.com/event/healthy-retail-subcommittee-2025-05-28/
END:VEVENT
BEGIN:VEVENT
DTSTART;TZID=America/New_York:20250527T150000
DTEND;TZID=America/New_York:20250527T160000
DTSTAMP:20260425T080029
CREATED:20210401T142328Z
LAST-MODIFIED:20210401T142328Z
UID:84558-1748358000-1748361600@livehealthymiamigardens.com
SUMMARY:Let's Talk Health! | Every Tuesday @3pm
DESCRIPTION:Let’s Talk Health!\nJoin our Community Conversations on Building a Healthier Miami Gardens.\nTuesdays at 3PM \nBroadcasts virtually on:\nFacebook Live & Youtube Live
URL:http://livehealthymiamigardens.com/event/lets-talk-health-2025-05-27/
LOCATION:Virtual
ATTACH;FMTTYPE=image/jpeg:http://livehealthymiamigardens.com/livehealthy/wp-content/uploads/2021/04/letstalkhealth-1920x1080-1.jpg
END:VEVENT
BEGIN:VEVENT
DTSTART;TZID=America/New_York:20250522T093000
DTEND;TZID=America/New_York:20250522T113000
DTSTAMP:20260425T080029
CREATED:20220519T172342Z
LAST-MODIFIED:20220519T172342Z
UID:84557-1747906200-1747913400@livehealthymiamigardens.com
SUMMARY:Primary Health and Mental Health Sub-Council Meeting
DESCRIPTION:
URL:http://livehealthymiamigardens.com/event/primary-health-and-mental-health-sub-council-meeting-2025-05-22/
END:VEVENT
BEGIN:VEVENT
DTSTART;TZID=America/New_York:20250521T153000
DTEND;TZID=America/New_York:20250521T163000
DTSTAMP:20260425T080029
CREATED:20220519T195815Z
LAST-MODIFIED:20220519T195815Z
UID:84556-1747841400-1747845000@livehealthymiamigardens.com
SUMMARY:Communication Committee
DESCRIPTION:
URL:http://livehealthymiamigardens.com/event/communication-committee-2025-05-21/
END:VEVENT
BEGIN:VEVENT
DTSTART;TZID=America/New_York:20250520T150000
DTEND;TZID=America/New_York:20250520T160000
DTSTAMP:20260425T080029
CREATED:20210401T142328Z
LAST-MODIFIED:20210401T142328Z
UID:84555-1747753200-1747756800@livehealthymiamigardens.com
SUMMARY:Let's Talk Health! | Every Tuesday @3pm
DESCRIPTION:Let’s Talk Health!\nJoin our Community Conversations on Building a Healthier Miami Gardens.\nTuesdays at 3PM \nBroadcasts virtually on:\nFacebook Live & Youtube Live
URL:http://livehealthymiamigardens.com/event/lets-talk-health-2025-05-20/
LOCATION:Virtual
ATTACH;FMTTYPE=image/jpeg:http://livehealthymiamigardens.com/livehealthy/wp-content/uploads/2021/04/letstalkhealth-1920x1080-1.jpg
END:VEVENT
BEGIN:VEVENT
DTSTART;TZID=America/New_York:20250515T130000
DTEND;TZID=America/New_York:20250515T150000
DTSTAMP:20260425T080029
CREATED:20220519T171450Z
LAST-MODIFIED:20220519T171450Z
UID:84553-1747314000-1747321200@livehealthymiamigardens.com
SUMMARY:Physical Activity and Nutrition
DESCRIPTION:
URL:http://livehealthymiamigardens.com/event/physical-activity-and-nutrition-2-2024-05-16-2025-05-15/
END:VEVENT
BEGIN:VEVENT
DTSTART;TZID=America/New_York:20250515T130000
DTEND;TZID=America/New_York:20250515T150000
DTSTAMP:20260425T080029
CREATED:20220519T171450Z
LAST-MODIFIED:20220519T171450Z
UID:84551-1747314000-1747321200@livehealthymiamigardens.com
SUMMARY:Physical Activity and Nutrition
DESCRIPTION:
URL:http://livehealthymiamigardens.com/event/physical-activity-and-nutrition-2-2025-05-15/
END:VEVENT
BEGIN:VEVENT
DTSTART;TZID=America/New_York:20250515T100000
DTEND;TZID=America/New_York:20250515T120000
DTSTAMP:20260425T080029
CREATED:20220519T172134Z
LAST-MODIFIED:20220519T172134Z
UID:84552-1747303200-1747310400@livehealthymiamigardens.com
SUMMARY:Data and Evaluation Committee Meeting
DESCRIPTION:
URL:http://livehealthymiamigardens.com/event/data-and-evaluation-committee-meeting-3-2025-05-15/
END:VEVENT
BEGIN:VEVENT
DTSTART;TZID=America/New_York:20250514T173000
DTEND;TZID=America/New_York:20250514T190000
DTSTAMP:20260425T080029
CREATED:20220519T183316Z
LAST-MODIFIED:20220519T183316Z
UID:84550-1747243800-1747249200@livehealthymiamigardens.com
SUMMARY:City Council Meeting
DESCRIPTION:
URL:http://livehealthymiamigardens.com/event/city-council-meeting-2025-05-14/
END:VEVENT
BEGIN:VEVENT
DTSTART;TZID=America/New_York:20250513T150000
DTEND;TZID=America/New_York:20250513T160000
DTSTAMP:20260425T080029
CREATED:20210401T142328Z
LAST-MODIFIED:20210401T142328Z
UID:84548-1747148400-1747152000@livehealthymiamigardens.com
SUMMARY:Let's Talk Health! | Every Tuesday @3pm
DESCRIPTION:Let’s Talk Health!\nJoin our Community Conversations on Building a Healthier Miami Gardens.\nTuesdays at 3PM \nBroadcasts virtually on:\nFacebook Live & Youtube Live
URL:http://livehealthymiamigardens.com/event/lets-talk-health-2025-05-13/
LOCATION:Virtual
ATTACH;FMTTYPE=image/jpeg:http://livehealthymiamigardens.com/livehealthy/wp-content/uploads/2021/04/letstalkhealth-1920x1080-1.jpg
END:VEVENT
BEGIN:VEVENT
DTSTART;TZID=America/New_York:20250513T093000
DTEND;TZID=America/New_York:20250513T233000
DTSTAMP:20260425T080029
CREATED:20220519T171243Z
LAST-MODIFIED:20220519T171243Z
UID:84549-1747128600-1747179000@livehealthymiamigardens.com
SUMMARY:Host Council Meeting
DESCRIPTION:
URL:http://livehealthymiamigardens.com/event/host-council-meeting-3-2025-05-13/
LOCATION:Zoom Conference
END:VEVENT
BEGIN:VEVENT
DTSTART;TZID=America/New_York:20250506T150000
DTEND;TZID=America/New_York:20250506T160000
DTSTAMP:20260425T080029
CREATED:20210401T142328Z
LAST-MODIFIED:20210401T142328Z
UID:84547-1746543600-1746547200@livehealthymiamigardens.com
SUMMARY:Let's Talk Health! | Every Tuesday @3pm
DESCRIPTION:Let’s Talk Health!\nJoin our Community Conversations on Building a Healthier Miami Gardens.\nTuesdays at 3PM \nBroadcasts virtually on:\nFacebook Live & Youtube Live
URL:http://livehealthymiamigardens.com/event/lets-talk-health-2025-05-06/
LOCATION:Virtual
ATTACH;FMTTYPE=image/jpeg:http://livehealthymiamigardens.com/livehealthy/wp-content/uploads/2021/04/letstalkhealth-1920x1080-1.jpg
END:VEVENT
BEGIN:VEVENT
DTSTART;TZID=America/New_York:20250429T150000
DTEND;TZID=America/New_York:20250429T160000
DTSTAMP:20260425T080029
CREATED:20210401T142328Z
LAST-MODIFIED:20210401T142328Z
UID:84544-1745938800-1745942400@livehealthymiamigardens.com
SUMMARY:Let's Talk Health! | Every Tuesday @3pm
DESCRIPTION:Let’s Talk Health!\nJoin our Community Conversations on Building a Healthier Miami Gardens.\nTuesdays at 3PM \nBroadcasts virtually on:\nFacebook Live & Youtube Live
URL:http://livehealthymiamigardens.com/event/lets-talk-health-2025-04-29/
LOCATION:Virtual
ATTACH;FMTTYPE=image/jpeg:http://livehealthymiamigardens.com/livehealthy/wp-content/uploads/2021/04/letstalkhealth-1920x1080-1.jpg
END:VEVENT
BEGIN:VEVENT
DTSTART;TZID=America/New_York:20250424T093000
DTEND;TZID=America/New_York:20250424T113000
DTSTAMP:20260425T080029
CREATED:20220519T172342Z
LAST-MODIFIED:20220519T172342Z
UID:84542-1745487000-1745494200@livehealthymiamigardens.com
SUMMARY:Primary Health and Mental Health Sub-Council Meeting
DESCRIPTION:
URL:http://livehealthymiamigardens.com/event/primary-health-and-mental-health-sub-council-meeting-2025-04-24/
END:VEVENT
END:VCALENDAR