BEGIN:VCALENDAR
VERSION:2.0
PRODID:-//Live Healthy Miami Gardens - ECPv6.15.20//NONSGML v1.0//EN
CALSCALE:GREGORIAN
METHOD:PUBLISH
X-WR-CALNAME:Live Healthy Miami Gardens
X-ORIGINAL-URL:http://livehealthymiamigardens.com
X-WR-CALDESC:Events for Live Healthy Miami Gardens
REFRESH-INTERVAL;VALUE=DURATION:PT1H
X-Robots-Tag:noindex
X-PUBLISHED-TTL:PT1H
BEGIN:VTIMEZONE
TZID:America/New_York
BEGIN:DAYLIGHT
TZOFFSETFROM:-0500
TZOFFSETTO:-0400
TZNAME:EDT
DTSTART:20230312T070000
END:DAYLIGHT
BEGIN:STANDARD
TZOFFSETFROM:-0400
TZOFFSETTO:-0500
TZNAME:EST
DTSTART:20231105T060000
END:STANDARD
BEGIN:DAYLIGHT
TZOFFSETFROM:-0500
TZOFFSETTO:-0400
TZNAME:EDT
DTSTART:20240310T070000
END:DAYLIGHT
BEGIN:STANDARD
TZOFFSETFROM:-0400
TZOFFSETTO:-0500
TZNAME:EST
DTSTART:20241103T060000
END:STANDARD
BEGIN:DAYLIGHT
TZOFFSETFROM:-0500
TZOFFSETTO:-0400
TZNAME:EDT
DTSTART:20250309T070000
END:DAYLIGHT
BEGIN:STANDARD
TZOFFSETFROM:-0400
TZOFFSETTO:-0500
TZNAME:EST
DTSTART:20251102T060000
END:STANDARD
END:VTIMEZONE
BEGIN:VEVENT
DTSTART;TZID=America/New_York:20241203T150000
DTEND;TZID=America/New_York:20241203T160000
DTSTAMP:20260425T125255
CREATED:20210401T142328Z
LAST-MODIFIED:20210401T142328Z
UID:84408-1733238000-1733241600@livehealthymiamigardens.com
SUMMARY:Let's Talk Health! | Every Tuesday @3pm
DESCRIPTION:Let’s Talk Health!\nJoin our Community Conversations on Building a Healthier Miami Gardens.\nTuesdays at 3PM \nBroadcasts virtually on:\nFacebook Live & Youtube Live
URL:http://livehealthymiamigardens.com/event/lets-talk-health-2024-12-03/
LOCATION:Virtual
ATTACH;FMTTYPE=image/jpeg:http://livehealthymiamigardens.com/livehealthy/wp-content/uploads/2021/04/letstalkhealth-1920x1080-1.jpg
END:VEVENT
BEGIN:VEVENT
DTSTART;TZID=America/New_York:20241128T093000
DTEND;TZID=America/New_York:20241128T113000
DTSTAMP:20260425T125255
CREATED:20220519T172342Z
LAST-MODIFIED:20220519T172342Z
UID:84399-1732786200-1732793400@livehealthymiamigardens.com
SUMMARY:Primary Health and Mental Health Sub-Council Meeting
DESCRIPTION:
URL:http://livehealthymiamigardens.com/event/primary-health-and-mental-health-sub-council-meeting-2024-11-28/
END:VEVENT
BEGIN:VEVENT
DTSTART;TZID=America/New_York:20241127T140000
DTEND;TZID=America/New_York:20241127T150000
DTSTAMP:20260425T125255
CREATED:20220519T172535Z
LAST-MODIFIED:20220519T172535Z
UID:84398-1732716000-1732719600@livehealthymiamigardens.com
SUMMARY:Healthy Retail Subcommittee
DESCRIPTION:
URL:http://livehealthymiamigardens.com/event/healthy-retail-subcommittee-2024-11-27/
END:VEVENT
BEGIN:VEVENT
DTSTART;TZID=America/New_York:20241126T150000
DTEND;TZID=America/New_York:20241126T160000
DTSTAMP:20260425T125255
CREATED:20210401T142328Z
LAST-MODIFIED:20210401T142328Z
UID:84397-1732633200-1732636800@livehealthymiamigardens.com
SUMMARY:Let's Talk Health! | Every Tuesday @3pm
DESCRIPTION:Let’s Talk Health!\nJoin our Community Conversations on Building a Healthier Miami Gardens.\nTuesdays at 3PM \nBroadcasts virtually on:\nFacebook Live & Youtube Live
URL:http://livehealthymiamigardens.com/event/lets-talk-health-2024-11-26/
LOCATION:Virtual
ATTACH;FMTTYPE=image/jpeg:http://livehealthymiamigardens.com/livehealthy/wp-content/uploads/2021/04/letstalkhealth-1920x1080-1.jpg
END:VEVENT
BEGIN:VEVENT
DTSTART;TZID=America/New_York:20241121T130000
DTEND;TZID=America/New_York:20241121T150000
DTSTAMP:20260425T125255
CREATED:20220519T171450Z
LAST-MODIFIED:20220519T171450Z
UID:84391-1732194000-1732201200@livehealthymiamigardens.com
SUMMARY:Physical Activity and Nutrition
DESCRIPTION:
URL:http://livehealthymiamigardens.com/event/physical-activity-and-nutrition-2-2024-11-21/
END:VEVENT
BEGIN:VEVENT
DTSTART;TZID=America/New_York:20241121T130000
DTEND;TZID=America/New_York:20241121T150000
DTSTAMP:20260425T125255
CREATED:20220519T171450Z
LAST-MODIFIED:20220519T171450Z
UID:84393-1732194000-1732201200@livehealthymiamigardens.com
SUMMARY:Physical Activity and Nutrition
DESCRIPTION:
URL:http://livehealthymiamigardens.com/event/physical-activity-and-nutrition-2-2024-05-16-2024-11-21/
END:VEVENT
BEGIN:VEVENT
DTSTART;TZID=America/New_York:20241121T100000
DTEND;TZID=America/New_York:20241121T120000
DTSTAMP:20260425T125255
CREATED:20220519T172134Z
LAST-MODIFIED:20220519T172134Z
UID:84392-1732183200-1732190400@livehealthymiamigardens.com
SUMMARY:Data and Evaluation Committee Meeting
DESCRIPTION:
URL:http://livehealthymiamigardens.com/event/data-and-evaluation-committee-meeting-3-2024-11-21/
END:VEVENT
BEGIN:VEVENT
DTSTART;TZID=America/New_York:20241120T153000
DTEND;TZID=America/New_York:20241120T163000
DTSTAMP:20260425T125255
CREATED:20220519T195815Z
LAST-MODIFIED:20220519T195815Z
UID:84390-1732116600-1732120200@livehealthymiamigardens.com
SUMMARY:Communication Committee
DESCRIPTION:
URL:http://livehealthymiamigardens.com/event/communication-committee-2024-11-20/
END:VEVENT
BEGIN:VEVENT
DTSTART;TZID=America/New_York:20241119T150000
DTEND;TZID=America/New_York:20241119T160000
DTSTAMP:20260425T125255
CREATED:20210401T142328Z
LAST-MODIFIED:20210401T142328Z
UID:84389-1732028400-1732032000@livehealthymiamigardens.com
SUMMARY:Let's Talk Health! | Every Tuesday @3pm
DESCRIPTION:Let’s Talk Health!\nJoin our Community Conversations on Building a Healthier Miami Gardens.\nTuesdays at 3PM \nBroadcasts virtually on:\nFacebook Live & Youtube Live
URL:http://livehealthymiamigardens.com/event/lets-talk-health-2024-11-19/
LOCATION:Virtual
ATTACH;FMTTYPE=image/jpeg:http://livehealthymiamigardens.com/livehealthy/wp-content/uploads/2021/04/letstalkhealth-1920x1080-1.jpg
END:VEVENT
BEGIN:VEVENT
DTSTART;TZID=America/New_York:20241113T173000
DTEND;TZID=America/New_York:20241113T190000
DTSTAMP:20260425T125255
CREATED:20220519T183316Z
LAST-MODIFIED:20220519T183316Z
UID:84388-1731519000-1731524400@livehealthymiamigardens.com
SUMMARY:City Council Meeting
DESCRIPTION:
URL:http://livehealthymiamigardens.com/event/city-council-meeting-2024-11-13/
END:VEVENT
BEGIN:VEVENT
DTSTART;TZID=America/New_York:20241112T150000
DTEND;TZID=America/New_York:20241112T160000
DTSTAMP:20260425T125255
CREATED:20210401T142328Z
LAST-MODIFIED:20210401T142328Z
UID:84386-1731423600-1731427200@livehealthymiamigardens.com
SUMMARY:Let's Talk Health! | Every Tuesday @3pm
DESCRIPTION:Let’s Talk Health!\nJoin our Community Conversations on Building a Healthier Miami Gardens.\nTuesdays at 3PM \nBroadcasts virtually on:\nFacebook Live & Youtube Live
URL:http://livehealthymiamigardens.com/event/lets-talk-health-2024-11-12/
LOCATION:Virtual
ATTACH;FMTTYPE=image/jpeg:http://livehealthymiamigardens.com/livehealthy/wp-content/uploads/2021/04/letstalkhealth-1920x1080-1.jpg
END:VEVENT
BEGIN:VEVENT
DTSTART;TZID=America/New_York:20241112T093000
DTEND;TZID=America/New_York:20241112T233000
DTSTAMP:20260425T125255
CREATED:20220519T171243Z
LAST-MODIFIED:20220519T171243Z
UID:84387-1731403800-1731454200@livehealthymiamigardens.com
SUMMARY:Host Council Meeting
DESCRIPTION:
URL:http://livehealthymiamigardens.com/event/host-council-meeting-3-2024-11-12/
LOCATION:Zoom Conference
END:VEVENT
BEGIN:VEVENT
DTSTART;TZID=America/New_York:20241105T150000
DTEND;TZID=America/New_York:20241105T160000
DTSTAMP:20260425T125255
CREATED:20210401T142328Z
LAST-MODIFIED:20210401T142328Z
UID:84385-1730818800-1730822400@livehealthymiamigardens.com
SUMMARY:Let's Talk Health! | Every Tuesday @3pm
DESCRIPTION:Let’s Talk Health!\nJoin our Community Conversations on Building a Healthier Miami Gardens.\nTuesdays at 3PM \nBroadcasts virtually on:\nFacebook Live & Youtube Live
URL:http://livehealthymiamigardens.com/event/lets-talk-health-2024-11-05/
LOCATION:Virtual
ATTACH;FMTTYPE=image/jpeg:http://livehealthymiamigardens.com/livehealthy/wp-content/uploads/2021/04/letstalkhealth-1920x1080-1.jpg
END:VEVENT
BEGIN:VEVENT
DTSTART;TZID=America/New_York:20241029T150000
DTEND;TZID=America/New_York:20241029T160000
DTSTAMP:20260425T125255
CREATED:20210401T142328Z
LAST-MODIFIED:20210401T142328Z
UID:84382-1730214000-1730217600@livehealthymiamigardens.com
SUMMARY:Let's Talk Health! | Every Tuesday @3pm
DESCRIPTION:Let’s Talk Health!\nJoin our Community Conversations on Building a Healthier Miami Gardens.\nTuesdays at 3PM \nBroadcasts virtually on:\nFacebook Live & Youtube Live
URL:http://livehealthymiamigardens.com/event/lets-talk-health-2024-10-29/
LOCATION:Virtual
ATTACH;FMTTYPE=image/jpeg:http://livehealthymiamigardens.com/livehealthy/wp-content/uploads/2021/04/letstalkhealth-1920x1080-1.jpg
END:VEVENT
BEGIN:VEVENT
DTSTART;TZID=America/New_York:20241024T093000
DTEND;TZID=America/New_York:20241024T113000
DTSTAMP:20260425T125255
CREATED:20220519T172342Z
LAST-MODIFIED:20220519T172342Z
UID:84380-1729762200-1729769400@livehealthymiamigardens.com
SUMMARY:Primary Health and Mental Health Sub-Council Meeting
DESCRIPTION:
URL:http://livehealthymiamigardens.com/event/primary-health-and-mental-health-sub-council-meeting-2024-10-24/
END:VEVENT
BEGIN:VEVENT
DTSTART;TZID=America/New_York:20241023T140000
DTEND;TZID=America/New_York:20241023T150000
DTSTAMP:20260425T125255
CREATED:20220519T172535Z
LAST-MODIFIED:20220519T172535Z
UID:84379-1729692000-1729695600@livehealthymiamigardens.com
SUMMARY:Healthy Retail Subcommittee
DESCRIPTION:
URL:http://livehealthymiamigardens.com/event/healthy-retail-subcommittee-2024-10-23/
END:VEVENT
BEGIN:VEVENT
DTSTART;TZID=America/New_York:20241022T150000
DTEND;TZID=America/New_York:20241022T160000
DTSTAMP:20260425T125255
CREATED:20210401T142328Z
LAST-MODIFIED:20210401T142328Z
UID:84378-1729609200-1729612800@livehealthymiamigardens.com
SUMMARY:Let's Talk Health! | Every Tuesday @3pm
DESCRIPTION:Let’s Talk Health!\nJoin our Community Conversations on Building a Healthier Miami Gardens.\nTuesdays at 3PM \nBroadcasts virtually on:\nFacebook Live & Youtube Live
URL:http://livehealthymiamigardens.com/event/lets-talk-health-2024-10-22/
LOCATION:Virtual
ATTACH;FMTTYPE=image/jpeg:http://livehealthymiamigardens.com/livehealthy/wp-content/uploads/2021/04/letstalkhealth-1920x1080-1.jpg
END:VEVENT
BEGIN:VEVENT
DTSTART;TZID=America/New_York:20241017T130000
DTEND;TZID=America/New_York:20241017T150000
DTSTAMP:20260425T125255
CREATED:20220519T171450Z
LAST-MODIFIED:20220519T171450Z
UID:84375-1729170000-1729177200@livehealthymiamigardens.com
SUMMARY:Physical Activity and Nutrition
DESCRIPTION:
URL:http://livehealthymiamigardens.com/event/physical-activity-and-nutrition-2-2024-10-17/
END:VEVENT
BEGIN:VEVENT
DTSTART;TZID=America/New_York:20241017T130000
DTEND;TZID=America/New_York:20241017T150000
DTSTAMP:20260425T125255
CREATED:20220519T171450Z
LAST-MODIFIED:20220519T171450Z
UID:84377-1729170000-1729177200@livehealthymiamigardens.com
SUMMARY:Physical Activity and Nutrition
DESCRIPTION:
URL:http://livehealthymiamigardens.com/event/physical-activity-and-nutrition-2-2024-05-16-2024-10-17/
END:VEVENT
BEGIN:VEVENT
DTSTART;TZID=America/New_York:20241017T100000
DTEND;TZID=America/New_York:20241017T120000
DTSTAMP:20260425T125255
CREATED:20220519T172134Z
LAST-MODIFIED:20220519T172134Z
UID:84376-1729159200-1729166400@livehealthymiamigardens.com
SUMMARY:Data and Evaluation Committee Meeting
DESCRIPTION:
URL:http://livehealthymiamigardens.com/event/data-and-evaluation-committee-meeting-3-2024-10-17/
END:VEVENT
BEGIN:VEVENT
DTSTART;TZID=America/New_York:20241016T153000
DTEND;TZID=America/New_York:20241016T163000
DTSTAMP:20260425T125255
CREATED:20220519T195815Z
LAST-MODIFIED:20220519T195815Z
UID:84374-1729092600-1729096200@livehealthymiamigardens.com
SUMMARY:Communication Committee
DESCRIPTION:
URL:http://livehealthymiamigardens.com/event/communication-committee-2024-10-16/
END:VEVENT
BEGIN:VEVENT
DTSTART;TZID=America/New_York:20241015T150000
DTEND;TZID=America/New_York:20241015T160000
DTSTAMP:20260425T125255
CREATED:20210401T142328Z
LAST-MODIFIED:20210401T142328Z
UID:84373-1729004400-1729008000@livehealthymiamigardens.com
SUMMARY:Let's Talk Health! | Every Tuesday @3pm
DESCRIPTION:Let’s Talk Health!\nJoin our Community Conversations on Building a Healthier Miami Gardens.\nTuesdays at 3PM \nBroadcasts virtually on:\nFacebook Live & Youtube Live
URL:http://livehealthymiamigardens.com/event/lets-talk-health-2024-10-15/
LOCATION:Virtual
ATTACH;FMTTYPE=image/jpeg:http://livehealthymiamigardens.com/livehealthy/wp-content/uploads/2021/04/letstalkhealth-1920x1080-1.jpg
END:VEVENT
BEGIN:VEVENT
DTSTART;TZID=America/New_York:20241009T173000
DTEND;TZID=America/New_York:20241009T190000
DTSTAMP:20260425T125255
CREATED:20220519T183316Z
LAST-MODIFIED:20220519T183316Z
UID:84360-1728495000-1728500400@livehealthymiamigardens.com
SUMMARY:City Council Meeting
DESCRIPTION:
URL:http://livehealthymiamigardens.com/event/city-council-meeting-2024-10-09/
END:VEVENT
BEGIN:VEVENT
DTSTART;TZID=America/New_York:20241008T150000
DTEND;TZID=America/New_York:20241008T160000
DTSTAMP:20260425T125255
CREATED:20210401T142328Z
LAST-MODIFIED:20210401T142328Z
UID:84357-1728399600-1728403200@livehealthymiamigardens.com
SUMMARY:Let's Talk Health! | Every Tuesday @3pm
DESCRIPTION:Let’s Talk Health!\nJoin our Community Conversations on Building a Healthier Miami Gardens.\nTuesdays at 3PM \nBroadcasts virtually on:\nFacebook Live & Youtube Live
URL:http://livehealthymiamigardens.com/event/lets-talk-health-2024-10-08/
LOCATION:Virtual
ATTACH;FMTTYPE=image/jpeg:http://livehealthymiamigardens.com/livehealthy/wp-content/uploads/2021/04/letstalkhealth-1920x1080-1.jpg
END:VEVENT
BEGIN:VEVENT
DTSTART;TZID=America/New_York:20241008T093000
DTEND;TZID=America/New_York:20241008T233000
DTSTAMP:20260425T125255
CREATED:20220519T171243Z
LAST-MODIFIED:20220519T171243Z
UID:84358-1728379800-1728430200@livehealthymiamigardens.com
SUMMARY:Host Council Meeting
DESCRIPTION:
URL:http://livehealthymiamigardens.com/event/host-council-meeting-3-2024-10-08/
LOCATION:Zoom Conference
END:VEVENT
BEGIN:VEVENT
DTSTART;TZID=America/New_York:20241001T150000
DTEND;TZID=America/New_York:20241001T160000
DTSTAMP:20260425T125255
CREATED:20210401T142328Z
LAST-MODIFIED:20210401T142328Z
UID:84352-1727794800-1727798400@livehealthymiamigardens.com
SUMMARY:Let's Talk Health! | Every Tuesday @3pm
DESCRIPTION:Let’s Talk Health!\nJoin our Community Conversations on Building a Healthier Miami Gardens.\nTuesdays at 3PM \nBroadcasts virtually on:\nFacebook Live & Youtube Live
URL:http://livehealthymiamigardens.com/event/lets-talk-health-2024-10-01/
LOCATION:Virtual
ATTACH;FMTTYPE=image/jpeg:http://livehealthymiamigardens.com/livehealthy/wp-content/uploads/2021/04/letstalkhealth-1920x1080-1.jpg
END:VEVENT
BEGIN:VEVENT
DTSTART;TZID=America/New_York:20240926T093000
DTEND;TZID=America/New_York:20240926T113000
DTSTAMP:20260425T125255
CREATED:20220519T172342Z
LAST-MODIFIED:20220519T172342Z
UID:84346-1727343000-1727350200@livehealthymiamigardens.com
SUMMARY:Primary Health and Mental Health Sub-Council Meeting
DESCRIPTION:
URL:http://livehealthymiamigardens.com/event/primary-health-and-mental-health-sub-council-meeting-2024-09-26/
END:VEVENT
BEGIN:VEVENT
DTSTART;TZID=America/New_York:20240925T140000
DTEND;TZID=America/New_York:20240925T150000
DTSTAMP:20260425T125255
CREATED:20220519T172535Z
LAST-MODIFIED:20220519T172535Z
UID:84341-1727272800-1727276400@livehealthymiamigardens.com
SUMMARY:Healthy Retail Subcommittee
DESCRIPTION:
URL:http://livehealthymiamigardens.com/event/healthy-retail-subcommittee-2024-09-25/
END:VEVENT
BEGIN:VEVENT
DTSTART;TZID=America/New_York:20240924T150000
DTEND;TZID=America/New_York:20240924T160000
DTSTAMP:20260425T125255
CREATED:20210401T142328Z
LAST-MODIFIED:20210401T142328Z
UID:84331-1727190000-1727193600@livehealthymiamigardens.com
SUMMARY:Let's Talk Health! | Every Tuesday @3pm
DESCRIPTION:Let’s Talk Health!\nJoin our Community Conversations on Building a Healthier Miami Gardens.\nTuesdays at 3PM \nBroadcasts virtually on:\nFacebook Live & Youtube Live
URL:http://livehealthymiamigardens.com/event/lets-talk-health-2024-09-24/
LOCATION:Virtual
ATTACH;FMTTYPE=image/jpeg:http://livehealthymiamigardens.com/livehealthy/wp-content/uploads/2021/04/letstalkhealth-1920x1080-1.jpg
END:VEVENT
BEGIN:VEVENT
DTSTART;TZID=America/New_York:20240919T130000
DTEND;TZID=America/New_York:20240919T150000
DTSTAMP:20260425T125255
CREATED:20220519T171450Z
LAST-MODIFIED:20220519T171450Z
UID:84319-1726750800-1726758000@livehealthymiamigardens.com
SUMMARY:Physical Activity and Nutrition
DESCRIPTION:
URL:http://livehealthymiamigardens.com/event/physical-activity-and-nutrition-2-2024-09-19/
END:VEVENT
END:VCALENDAR