BEGIN:VCALENDAR
VERSION:2.0
PRODID:-//Live Healthy Miami Gardens - ECPv6.15.20//NONSGML v1.0//EN
CALSCALE:GREGORIAN
METHOD:PUBLISH
X-WR-CALNAME:Live Healthy Miami Gardens
X-ORIGINAL-URL:http://livehealthymiamigardens.com
X-WR-CALDESC:Events for Live Healthy Miami Gardens
REFRESH-INTERVAL;VALUE=DURATION:PT1H
X-Robots-Tag:noindex
X-PUBLISHED-TTL:PT1H
BEGIN:VTIMEZONE
TZID:America/New_York
BEGIN:DAYLIGHT
TZOFFSETFROM:-0500
TZOFFSETTO:-0400
TZNAME:EDT
DTSTART:20220313T070000
END:DAYLIGHT
BEGIN:STANDARD
TZOFFSETFROM:-0400
TZOFFSETTO:-0500
TZNAME:EST
DTSTART:20221106T060000
END:STANDARD
BEGIN:DAYLIGHT
TZOFFSETFROM:-0500
TZOFFSETTO:-0400
TZNAME:EDT
DTSTART:20230312T070000
END:DAYLIGHT
BEGIN:STANDARD
TZOFFSETFROM:-0400
TZOFFSETTO:-0500
TZNAME:EST
DTSTART:20231105T060000
END:STANDARD
BEGIN:DAYLIGHT
TZOFFSETFROM:-0500
TZOFFSETTO:-0400
TZNAME:EDT
DTSTART:20240310T070000
END:DAYLIGHT
BEGIN:STANDARD
TZOFFSETFROM:-0400
TZOFFSETTO:-0500
TZNAME:EST
DTSTART:20241103T060000
END:STANDARD
BEGIN:DAYLIGHT
TZOFFSETFROM:-0500
TZOFFSETTO:-0400
TZNAME:EDT
DTSTART:20250309T070000
END:DAYLIGHT
BEGIN:STANDARD
TZOFFSETFROM:-0400
TZOFFSETTO:-0500
TZNAME:EST
DTSTART:20251102T060000
END:STANDARD
END:VTIMEZONE
BEGIN:VEVENT
DTSTART;TZID=America/New_York:20240227T150000
DTEND;TZID=America/New_York:20240227T160000
DTSTAMP:20260426T000516
CREATED:20210401T142328Z
LAST-MODIFIED:20220519T201414Z
UID:83778-1709046000-1709049600@livehealthymiamigardens.com
SUMMARY:Let's Talk Health! | Every Tuesday @3pm
DESCRIPTION:Let’s Talk Health!\nJoin our Community Conversations on Building a Healthier Miami Gardens.\nTuesdays at 3PM \nBroadcasts virtually on:\nFacebook Live & Youtube Live
URL:http://livehealthymiamigardens.com/event/lets-talk-health-2024-02-27/
LOCATION:Virtual
ATTACH;FMTTYPE=image/jpeg:http://livehealthymiamigardens.com/livehealthy/wp-content/uploads/2021/04/letstalkhealth-1920x1080-1.jpg
END:VEVENT
BEGIN:VEVENT
DTSTART;TZID=America/New_York:20240222T093000
DTEND;TZID=America/New_York:20240222T113000
DTSTAMP:20260426T000516
CREATED:20220519T172342Z
LAST-MODIFIED:20220519T172342Z
UID:83933-1708594200-1708601400@livehealthymiamigardens.com
SUMMARY:Primary Health and Mental Health Sub-Council Meeting
DESCRIPTION:
URL:http://livehealthymiamigardens.com/event/primary-health-and-mental-health-sub-council-meeting-2024-02-22/
END:VEVENT
BEGIN:VEVENT
DTSTART;TZID=America/New_York:20240221T153000
DTEND;TZID=America/New_York:20240221T163000
DTSTAMP:20260426T000516
CREATED:20220519T195815Z
LAST-MODIFIED:20220519T195815Z
UID:84035-1708529400-1708533000@livehealthymiamigardens.com
SUMMARY:Communication Committee
DESCRIPTION:
URL:http://livehealthymiamigardens.com/event/communication-committee-2024-02-21/
END:VEVENT
BEGIN:VEVENT
DTSTART;TZID=America/New_York:20240220T150000
DTEND;TZID=America/New_York:20240220T160000
DTSTAMP:20260426T000516
CREATED:20210401T142328Z
LAST-MODIFIED:20220519T201401Z
UID:83777-1708441200-1708444800@livehealthymiamigardens.com
SUMMARY:Let's Talk Health! | Every Tuesday @3pm
DESCRIPTION:Let’s Talk Health!\nJoin our Community Conversations on Building a Healthier Miami Gardens.\nTuesdays at 3PM \nBroadcasts virtually on:\nFacebook Live & Youtube Live
URL:http://livehealthymiamigardens.com/event/lets-talk-health-2024-02-20/
LOCATION:Virtual
ATTACH;FMTTYPE=image/jpeg:http://livehealthymiamigardens.com/livehealthy/wp-content/uploads/2021/04/letstalkhealth-1920x1080-1.jpg
END:VEVENT
BEGIN:VEVENT
DTSTART;TZID=America/New_York:20240215T130000
DTEND;TZID=America/New_York:20240215T150000
DTSTAMP:20260426T000516
CREATED:20220519T171450Z
LAST-MODIFIED:20220519T171600Z
UID:83856-1708002000-1708009200@livehealthymiamigardens.com
SUMMARY:Physical Activity and Nutrition
DESCRIPTION:
URL:http://livehealthymiamigardens.com/event/physical-activity-and-nutrition-2-2024-02-15/
END:VEVENT
BEGIN:VEVENT
DTSTART;TZID=America/New_York:20240215T100000
DTEND;TZID=America/New_York:20240215T120000
DTSTAMP:20260426T000516
CREATED:20220519T172134Z
LAST-MODIFIED:20220519T172134Z
UID:83907-1707991200-1707998400@livehealthymiamigardens.com
SUMMARY:Data and Evaluation Committee Meeting
DESCRIPTION:
URL:http://livehealthymiamigardens.com/event/data-and-evaluation-committee-meeting-3-2024-02-15/
END:VEVENT
BEGIN:VEVENT
DTSTART;TZID=America/New_York:20240214T173000
DTEND;TZID=America/New_York:20240214T190000
DTSTAMP:20260426T000516
CREATED:20220519T183316Z
LAST-MODIFIED:20220519T183316Z
UID:84005-1707931800-1707937200@livehealthymiamigardens.com
SUMMARY:City Council Meeting
DESCRIPTION:
URL:http://livehealthymiamigardens.com/event/city-council-meeting-2024-02-14/
END:VEVENT
BEGIN:VEVENT
DTSTART;TZID=America/New_York:20240213T150000
DTEND;TZID=America/New_York:20240213T160000
DTSTAMP:20260426T000516
CREATED:20210401T142328Z
LAST-MODIFIED:20220519T201400Z
UID:83776-1707836400-1707840000@livehealthymiamigardens.com
SUMMARY:Let's Talk Health! | Every Tuesday @3pm
DESCRIPTION:Let’s Talk Health!\nJoin our Community Conversations on Building a Healthier Miami Gardens.\nTuesdays at 3PM \nBroadcasts virtually on:\nFacebook Live & Youtube Live
URL:http://livehealthymiamigardens.com/event/lets-talk-health-2024-02-13/
LOCATION:Virtual
ATTACH;FMTTYPE=image/jpeg:http://livehealthymiamigardens.com/livehealthy/wp-content/uploads/2021/04/letstalkhealth-1920x1080-1.jpg
END:VEVENT
BEGIN:VEVENT
DTSTART;TZID=America/New_York:20240213T093000
DTEND;TZID=America/New_York:20240213T233000
DTSTAMP:20260426T000516
CREATED:20220519T171243Z
LAST-MODIFIED:20220519T171243Z
UID:83830-1707816600-1707867000@livehealthymiamigardens.com
SUMMARY:Host Council Meeting
DESCRIPTION:
URL:http://livehealthymiamigardens.com/event/host-council-meeting-3-2024-02-13/
LOCATION:Zoom Conference
END:VEVENT
BEGIN:VEVENT
DTSTART;TZID=America/New_York:20240206T150000
DTEND;TZID=America/New_York:20240206T160000
DTSTAMP:20260426T000516
CREATED:20210401T142328Z
LAST-MODIFIED:20220519T201359Z
UID:83775-1707231600-1707235200@livehealthymiamigardens.com
SUMMARY:Let's Talk Health! | Every Tuesday @3pm
DESCRIPTION:Let’s Talk Health!\nJoin our Community Conversations on Building a Healthier Miami Gardens.\nTuesdays at 3PM \nBroadcasts virtually on:\nFacebook Live & Youtube Live
URL:http://livehealthymiamigardens.com/event/lets-talk-health-2024-02-06/
LOCATION:Virtual
ATTACH;FMTTYPE=image/jpeg:http://livehealthymiamigardens.com/livehealthy/wp-content/uploads/2021/04/letstalkhealth-1920x1080-1.jpg
END:VEVENT
BEGIN:VEVENT
DTSTART;TZID=America/New_York:20240130T150000
DTEND;TZID=America/New_York:20240130T160000
DTSTAMP:20260426T000516
CREATED:20210401T142328Z
LAST-MODIFIED:20220519T201359Z
UID:83773-1706626800-1706630400@livehealthymiamigardens.com
SUMMARY:Let's Talk Health! | Every Tuesday @3pm
DESCRIPTION:Let’s Talk Health!\nJoin our Community Conversations on Building a Healthier Miami Gardens.\nTuesdays at 3PM \nBroadcasts virtually on:\nFacebook Live & Youtube Live
URL:http://livehealthymiamigardens.com/event/lets-talk-health-2024-01-30/
LOCATION:Virtual
ATTACH;FMTTYPE=image/jpeg:http://livehealthymiamigardens.com/livehealthy/wp-content/uploads/2021/04/letstalkhealth-1920x1080-1.jpg
END:VEVENT
BEGIN:VEVENT
DTSTART;TZID=America/New_York:20240125T093000
DTEND;TZID=America/New_York:20240125T113000
DTSTAMP:20260426T000516
CREATED:20220519T172342Z
LAST-MODIFIED:20220519T172342Z
UID:83932-1706175000-1706182200@livehealthymiamigardens.com
SUMMARY:Primary Health and Mental Health Sub-Council Meeting
DESCRIPTION:
URL:http://livehealthymiamigardens.com/event/primary-health-and-mental-health-sub-council-meeting-2024-01-25/
END:VEVENT
BEGIN:VEVENT
DTSTART;TZID=America/New_York:20240124T140000
DTEND;TZID=America/New_York:20240124T150000
DTSTAMP:20260426T000516
CREATED:20220519T172535Z
LAST-MODIFIED:20220519T182604Z
UID:83957-1706104800-1706108400@livehealthymiamigardens.com
SUMMARY:Healthy Retail Subcommittee
DESCRIPTION:
URL:http://livehealthymiamigardens.com/event/healthy-retail-subcommittee-2024-01-24/
END:VEVENT
BEGIN:VEVENT
DTSTART;TZID=America/New_York:20240123T150000
DTEND;TZID=America/New_York:20240123T160000
DTSTAMP:20260426T000516
CREATED:20210401T142328Z
LAST-MODIFIED:20220519T201358Z
UID:83772-1706022000-1706025600@livehealthymiamigardens.com
SUMMARY:Let's Talk Health! | Every Tuesday @3pm
DESCRIPTION:Let’s Talk Health!\nJoin our Community Conversations on Building a Healthier Miami Gardens.\nTuesdays at 3PM \nBroadcasts virtually on:\nFacebook Live & Youtube Live
URL:http://livehealthymiamigardens.com/event/lets-talk-health-2024-01-23/
LOCATION:Virtual
ATTACH;FMTTYPE=image/jpeg:http://livehealthymiamigardens.com/livehealthy/wp-content/uploads/2021/04/letstalkhealth-1920x1080-1.jpg
END:VEVENT
BEGIN:VEVENT
DTSTART;TZID=America/New_York:20240118T130000
DTEND;TZID=America/New_York:20240118T150000
DTSTAMP:20260426T000516
CREATED:20220519T171450Z
LAST-MODIFIED:20220519T171558Z
UID:83855-1705582800-1705590000@livehealthymiamigardens.com
SUMMARY:Physical Activity and Nutrition
DESCRIPTION:
URL:http://livehealthymiamigardens.com/event/physical-activity-and-nutrition-2-2024-01-18/
END:VEVENT
BEGIN:VEVENT
DTSTART;TZID=America/New_York:20240118T100000
DTEND;TZID=America/New_York:20240118T120000
DTSTAMP:20260426T000516
CREATED:20220519T172134Z
LAST-MODIFIED:20220519T172134Z
UID:83906-1705572000-1705579200@livehealthymiamigardens.com
SUMMARY:Data and Evaluation Committee Meeting
DESCRIPTION:
URL:http://livehealthymiamigardens.com/event/data-and-evaluation-committee-meeting-3-2024-01-18/
END:VEVENT
BEGIN:VEVENT
DTSTART;TZID=America/New_York:20240117T153000
DTEND;TZID=America/New_York:20240117T163000
DTSTAMP:20260426T000516
CREATED:20220519T195815Z
LAST-MODIFIED:20220519T195815Z
UID:84034-1705505400-1705509000@livehealthymiamigardens.com
SUMMARY:Communication Committee
DESCRIPTION:
URL:http://livehealthymiamigardens.com/event/communication-committee-2024-01-17/
END:VEVENT
BEGIN:VEVENT
DTSTART;TZID=America/New_York:20240116T150000
DTEND;TZID=America/New_York:20240116T160000
DTSTAMP:20260426T000516
CREATED:20210401T142328Z
LAST-MODIFIED:20220519T201357Z
UID:83769-1705417200-1705420800@livehealthymiamigardens.com
SUMMARY:Let's Talk Health! | Every Tuesday @3pm
DESCRIPTION:Let’s Talk Health!\nJoin our Community Conversations on Building a Healthier Miami Gardens.\nTuesdays at 3PM \nBroadcasts virtually on:\nFacebook Live & Youtube Live
URL:http://livehealthymiamigardens.com/event/lets-talk-health-2024-01-16/
LOCATION:Virtual
ATTACH;FMTTYPE=image/jpeg:http://livehealthymiamigardens.com/livehealthy/wp-content/uploads/2021/04/letstalkhealth-1920x1080-1.jpg
END:VEVENT
BEGIN:VEVENT
DTSTART;TZID=America/New_York:20240110T173000
DTEND;TZID=America/New_York:20240110T190000
DTSTAMP:20260426T000516
CREATED:20220519T183316Z
LAST-MODIFIED:20220519T183316Z
UID:84004-1704907800-1704913200@livehealthymiamigardens.com
SUMMARY:City Council Meeting
DESCRIPTION:
URL:http://livehealthymiamigardens.com/event/city-council-meeting-2024-01-10/
END:VEVENT
BEGIN:VEVENT
DTSTART;TZID=America/New_York:20240109T150000
DTEND;TZID=America/New_York:20240109T160000
DTSTAMP:20260426T000516
CREATED:20210401T142328Z
LAST-MODIFIED:20220519T201357Z
UID:83768-1704812400-1704816000@livehealthymiamigardens.com
SUMMARY:Let's Talk Health! | Every Tuesday @3pm
DESCRIPTION:Let’s Talk Health!\nJoin our Community Conversations on Building a Healthier Miami Gardens.\nTuesdays at 3PM \nBroadcasts virtually on:\nFacebook Live & Youtube Live
URL:http://livehealthymiamigardens.com/event/lets-talk-health-2024-01-09/
LOCATION:Virtual
ATTACH;FMTTYPE=image/jpeg:http://livehealthymiamigardens.com/livehealthy/wp-content/uploads/2021/04/letstalkhealth-1920x1080-1.jpg
END:VEVENT
BEGIN:VEVENT
DTSTART;TZID=America/New_York:20240109T093000
DTEND;TZID=America/New_York:20240109T233000
DTSTAMP:20260426T000516
CREATED:20220519T171243Z
LAST-MODIFIED:20220519T171243Z
UID:83829-1704792600-1704843000@livehealthymiamigardens.com
SUMMARY:Host Council Meeting
DESCRIPTION:
URL:http://livehealthymiamigardens.com/event/host-council-meeting-3-2024-01-09/
LOCATION:Zoom Conference
END:VEVENT
BEGIN:VEVENT
DTSTART;TZID=America/New_York:20240102T150000
DTEND;TZID=America/New_York:20240102T160000
DTSTAMP:20260426T000516
CREATED:20210401T142328Z
LAST-MODIFIED:20220519T201356Z
UID:83766-1704207600-1704211200@livehealthymiamigardens.com
SUMMARY:Let's Talk Health! | Every Tuesday @3pm
DESCRIPTION:Let’s Talk Health!\nJoin our Community Conversations on Building a Healthier Miami Gardens.\nTuesdays at 3PM \nBroadcasts virtually on:\nFacebook Live & Youtube Live
URL:http://livehealthymiamigardens.com/event/lets-talk-health-2024-01-02/
LOCATION:Virtual
ATTACH;FMTTYPE=image/jpeg:http://livehealthymiamigardens.com/livehealthy/wp-content/uploads/2021/04/letstalkhealth-1920x1080-1.jpg
END:VEVENT
BEGIN:VEVENT
DTSTART;TZID=America/New_York:20231228T093000
DTEND;TZID=America/New_York:20231228T113000
DTSTAMP:20260426T000516
CREATED:20220519T172342Z
LAST-MODIFIED:20220519T172342Z
UID:83931-1703755800-1703763000@livehealthymiamigardens.com
SUMMARY:Primary Health and Mental Health Sub-Council Meeting
DESCRIPTION:
URL:http://livehealthymiamigardens.com/event/primary-health-and-mental-health-sub-council-meeting-2023-12-28/
END:VEVENT
BEGIN:VEVENT
DTSTART;TZID=America/New_York:20231227T140000
DTEND;TZID=America/New_York:20231227T150000
DTSTAMP:20260426T000516
CREATED:20220519T172535Z
LAST-MODIFIED:20220519T182604Z
UID:83956-1703685600-1703689200@livehealthymiamigardens.com
SUMMARY:Healthy Retail Subcommittee
DESCRIPTION:
URL:http://livehealthymiamigardens.com/event/healthy-retail-subcommittee-2023-12-27/
END:VEVENT
BEGIN:VEVENT
DTSTART;TZID=America/New_York:20231226T150000
DTEND;TZID=America/New_York:20231226T160000
DTSTAMP:20260426T000516
CREATED:20210401T142328Z
LAST-MODIFIED:20220519T201355Z
UID:83765-1703602800-1703606400@livehealthymiamigardens.com
SUMMARY:Let's Talk Health! | Every Tuesday @3pm
DESCRIPTION:Let’s Talk Health!\nJoin our Community Conversations on Building a Healthier Miami Gardens.\nTuesdays at 3PM \nBroadcasts virtually on:\nFacebook Live & Youtube Live
URL:http://livehealthymiamigardens.com/event/lets-talk-health-2023-12-26/
LOCATION:Virtual
ATTACH;FMTTYPE=image/jpeg:http://livehealthymiamigardens.com/livehealthy/wp-content/uploads/2021/04/letstalkhealth-1920x1080-1.jpg
END:VEVENT
BEGIN:VEVENT
DTSTART;TZID=America/New_York:20231221T130000
DTEND;TZID=America/New_York:20231221T150000
DTSTAMP:20260426T000516
CREATED:20220519T171450Z
LAST-MODIFIED:20220519T171557Z
UID:83854-1703163600-1703170800@livehealthymiamigardens.com
SUMMARY:Physical Activity and Nutrition
DESCRIPTION:
URL:http://livehealthymiamigardens.com/event/physical-activity-and-nutrition-2-2023-12-21/
END:VEVENT
BEGIN:VEVENT
DTSTART;TZID=America/New_York:20231221T100000
DTEND;TZID=America/New_York:20231221T120000
DTSTAMP:20260426T000516
CREATED:20220519T172134Z
LAST-MODIFIED:20220519T172134Z
UID:83905-1703152800-1703160000@livehealthymiamigardens.com
SUMMARY:Data and Evaluation Committee Meeting
DESCRIPTION:
URL:http://livehealthymiamigardens.com/event/data-and-evaluation-committee-meeting-3-2023-12-21/
END:VEVENT
BEGIN:VEVENT
DTSTART;TZID=America/New_York:20231220T153000
DTEND;TZID=America/New_York:20231220T163000
DTSTAMP:20260426T000516
CREATED:20220519T195815Z
LAST-MODIFIED:20220519T195815Z
UID:84033-1703086200-1703089800@livehealthymiamigardens.com
SUMMARY:Communication Committee
DESCRIPTION:
URL:http://livehealthymiamigardens.com/event/communication-committee-2023-12-20/
END:VEVENT
BEGIN:VEVENT
DTSTART;TZID=America/New_York:20231219T150000
DTEND;TZID=America/New_York:20231219T160000
DTSTAMP:20260426T000516
CREATED:20210401T142328Z
LAST-MODIFIED:20220519T201355Z
UID:83764-1702998000-1703001600@livehealthymiamigardens.com
SUMMARY:Let's Talk Health! | Every Tuesday @3pm
DESCRIPTION:Let’s Talk Health!\nJoin our Community Conversations on Building a Healthier Miami Gardens.\nTuesdays at 3PM \nBroadcasts virtually on:\nFacebook Live & Youtube Live
URL:http://livehealthymiamigardens.com/event/lets-talk-health-2023-12-19/
LOCATION:Virtual
ATTACH;FMTTYPE=image/jpeg:http://livehealthymiamigardens.com/livehealthy/wp-content/uploads/2021/04/letstalkhealth-1920x1080-1.jpg
END:VEVENT
BEGIN:VEVENT
DTSTART;TZID=America/New_York:20231213T173000
DTEND;TZID=America/New_York:20231213T190000
DTSTAMP:20260426T000516
CREATED:20220519T183316Z
LAST-MODIFIED:20220519T183316Z
UID:84003-1702488600-1702494000@livehealthymiamigardens.com
SUMMARY:City Council Meeting
DESCRIPTION:
URL:http://livehealthymiamigardens.com/event/city-council-meeting-2023-12-13/
END:VEVENT
END:VCALENDAR