BEGIN:VCALENDAR
VERSION:2.0
PRODID:-//Live Healthy Miami Gardens - ECPv6.15.20//NONSGML v1.0//EN
CALSCALE:GREGORIAN
METHOD:PUBLISH
X-WR-CALNAME:Live Healthy Miami Gardens
X-ORIGINAL-URL:http://livehealthymiamigardens.com
X-WR-CALDESC:Events for Live Healthy Miami Gardens
REFRESH-INTERVAL;VALUE=DURATION:PT1H
X-Robots-Tag:noindex
X-PUBLISHED-TTL:PT1H
BEGIN:VTIMEZONE
TZID:America/New_York
BEGIN:DAYLIGHT
TZOFFSETFROM:-0500
TZOFFSETTO:-0400
TZNAME:EDT
DTSTART:20250309T070000
END:DAYLIGHT
BEGIN:STANDARD
TZOFFSETFROM:-0400
TZOFFSETTO:-0500
TZNAME:EST
DTSTART:20251102T060000
END:STANDARD
BEGIN:DAYLIGHT
TZOFFSETFROM:-0500
TZOFFSETTO:-0400
TZNAME:EDT
DTSTART:20260308T070000
END:DAYLIGHT
BEGIN:STANDARD
TZOFFSETFROM:-0400
TZOFFSETTO:-0500
TZNAME:EST
DTSTART:20261101T060000
END:STANDARD
BEGIN:DAYLIGHT
TZOFFSETFROM:-0500
TZOFFSETTO:-0400
TZNAME:EDT
DTSTART:20270314T070000
END:DAYLIGHT
BEGIN:STANDARD
TZOFFSETFROM:-0400
TZOFFSETTO:-0500
TZNAME:EST
DTSTART:20271107T060000
END:STANDARD
END:VTIMEZONE
BEGIN:VEVENT
DTSTART;TZID=America/New_York:20260908T093000
DTEND;TZID=America/New_York:20260908T233000
DTSTAMP:20260425T114447
CREATED:20220519T171243Z
LAST-MODIFIED:20220519T171243Z
UID:84936-1788859800-1788910200@livehealthymiamigardens.com
SUMMARY:Host Council Meeting
DESCRIPTION:
URL:http://livehealthymiamigardens.com/event/host-council-meeting-3-2026-09-08/
LOCATION:Zoom Conference
END:VEVENT
BEGIN:VEVENT
DTSTART;TZID=America/New_York:20260908T150000
DTEND;TZID=America/New_York:20260908T160000
DTSTAMP:20260425T114447
CREATED:20210401T142328Z
LAST-MODIFIED:20210401T142328Z
UID:84935-1788879600-1788883200@livehealthymiamigardens.com
SUMMARY:Let's Talk Health! | Every Tuesday @3pm
DESCRIPTION:Let’s Talk Health!\nJoin our Community Conversations on Building a Healthier Miami Gardens.\nTuesdays at 3PM \nBroadcasts virtually on:\nFacebook Live & Youtube Live
URL:http://livehealthymiamigardens.com/event/lets-talk-health-2026-09-08/
LOCATION:Virtual
ATTACH;FMTTYPE=image/jpeg:http://livehealthymiamigardens.com/livehealthy/wp-content/uploads/2021/04/letstalkhealth-1920x1080-1.jpg
END:VEVENT
BEGIN:VEVENT
DTSTART;TZID=America/New_York:20260909T173000
DTEND;TZID=America/New_York:20260909T190000
DTSTAMP:20260425T114447
CREATED:20220519T183316Z
LAST-MODIFIED:20220519T183316Z
UID:84937-1788975000-1788980400@livehealthymiamigardens.com
SUMMARY:City Council Meeting
DESCRIPTION:
URL:http://livehealthymiamigardens.com/event/city-council-meeting-2026-09-09/
END:VEVENT
BEGIN:VEVENT
DTSTART;TZID=America/New_York:20260915T150000
DTEND;TZID=America/New_York:20260915T160000
DTSTAMP:20260425T114447
CREATED:20210401T142328Z
LAST-MODIFIED:20210401T142328Z
UID:84938-1789484400-1789488000@livehealthymiamigardens.com
SUMMARY:Let's Talk Health! | Every Tuesday @3pm
DESCRIPTION:Let’s Talk Health!\nJoin our Community Conversations on Building a Healthier Miami Gardens.\nTuesdays at 3PM \nBroadcasts virtually on:\nFacebook Live & Youtube Live
URL:http://livehealthymiamigardens.com/event/lets-talk-health-2026-09-15/
LOCATION:Virtual
ATTACH;FMTTYPE=image/jpeg:http://livehealthymiamigardens.com/livehealthy/wp-content/uploads/2021/04/letstalkhealth-1920x1080-1.jpg
END:VEVENT
BEGIN:VEVENT
DTSTART;TZID=America/New_York:20260916T153000
DTEND;TZID=America/New_York:20260916T163000
DTSTAMP:20260425T114447
CREATED:20220519T195815Z
LAST-MODIFIED:20220519T195815Z
UID:84939-1789572600-1789576200@livehealthymiamigardens.com
SUMMARY:Communication Committee
DESCRIPTION:
URL:http://livehealthymiamigardens.com/event/communication-committee-2026-09-16/
END:VEVENT
BEGIN:VEVENT
DTSTART;TZID=America/New_York:20260917T100000
DTEND;TZID=America/New_York:20260917T120000
DTSTAMP:20260425T114447
CREATED:20220519T172134Z
LAST-MODIFIED:20220519T172134Z
UID:84941-1789639200-1789646400@livehealthymiamigardens.com
SUMMARY:Data and Evaluation Committee Meeting
DESCRIPTION:
URL:http://livehealthymiamigardens.com/event/data-and-evaluation-committee-meeting-3-2026-09-17/
END:VEVENT
BEGIN:VEVENT
DTSTART;TZID=America/New_York:20260917T130000
DTEND;TZID=America/New_York:20260917T150000
DTSTAMP:20260425T114447
CREATED:20220519T171450Z
LAST-MODIFIED:20220519T171450Z
UID:84940-1789650000-1789657200@livehealthymiamigardens.com
SUMMARY:Physical Activity and Nutrition
DESCRIPTION:
URL:http://livehealthymiamigardens.com/event/physical-activity-and-nutrition-2-2026-09-17/
END:VEVENT
BEGIN:VEVENT
DTSTART;TZID=America/New_York:20260917T130000
DTEND;TZID=America/New_York:20260917T150000
DTSTAMP:20260425T114447
CREATED:20220519T171450Z
LAST-MODIFIED:20220519T171450Z
UID:84942-1789650000-1789657200@livehealthymiamigardens.com
SUMMARY:Physical Activity and Nutrition
DESCRIPTION:
URL:http://livehealthymiamigardens.com/event/physical-activity-and-nutrition-2-2024-05-16-2026-09-17/
END:VEVENT
BEGIN:VEVENT
DTSTART;TZID=America/New_York:20260922T150000
DTEND;TZID=America/New_York:20260922T160000
DTSTAMP:20260425T114447
CREATED:20210401T142328Z
LAST-MODIFIED:20210401T142328Z
UID:84943-1790089200-1790092800@livehealthymiamigardens.com
SUMMARY:Let's Talk Health! | Every Tuesday @3pm
DESCRIPTION:Let’s Talk Health!\nJoin our Community Conversations on Building a Healthier Miami Gardens.\nTuesdays at 3PM \nBroadcasts virtually on:\nFacebook Live & Youtube Live
URL:http://livehealthymiamigardens.com/event/lets-talk-health-2026-09-22/
LOCATION:Virtual
ATTACH;FMTTYPE=image/jpeg:http://livehealthymiamigardens.com/livehealthy/wp-content/uploads/2021/04/letstalkhealth-1920x1080-1.jpg
END:VEVENT
BEGIN:VEVENT
DTSTART;TZID=America/New_York:20260923T140000
DTEND;TZID=America/New_York:20260923T150000
DTSTAMP:20260425T114447
CREATED:20220519T172535Z
LAST-MODIFIED:20220519T172535Z
UID:84944-1790172000-1790175600@livehealthymiamigardens.com
SUMMARY:Healthy Retail Subcommittee
DESCRIPTION:
URL:http://livehealthymiamigardens.com/event/healthy-retail-subcommittee-2026-09-23/
END:VEVENT
BEGIN:VEVENT
DTSTART;TZID=America/New_York:20260924T093000
DTEND;TZID=America/New_York:20260924T113000
DTSTAMP:20260425T114447
CREATED:20220519T172342Z
LAST-MODIFIED:20220519T172342Z
UID:84945-1790242200-1790249400@livehealthymiamigardens.com
SUMMARY:Primary Health and Mental Health Sub-Council Meeting
DESCRIPTION:
URL:http://livehealthymiamigardens.com/event/primary-health-and-mental-health-sub-council-meeting-2026-09-24/
END:VEVENT
BEGIN:VEVENT
DTSTART;TZID=America/New_York:20260929T150000
DTEND;TZID=America/New_York:20260929T160000
DTSTAMP:20260425T114447
CREATED:20210401T142328Z
LAST-MODIFIED:20210401T142328Z
UID:84947-1790694000-1790697600@livehealthymiamigardens.com
SUMMARY:Let's Talk Health! | Every Tuesday @3pm
DESCRIPTION:Let’s Talk Health!\nJoin our Community Conversations on Building a Healthier Miami Gardens.\nTuesdays at 3PM \nBroadcasts virtually on:\nFacebook Live & Youtube Live
URL:http://livehealthymiamigardens.com/event/lets-talk-health-2026-09-29/
LOCATION:Virtual
ATTACH;FMTTYPE=image/jpeg:http://livehealthymiamigardens.com/livehealthy/wp-content/uploads/2021/04/letstalkhealth-1920x1080-1.jpg
END:VEVENT
BEGIN:VEVENT
DTSTART;TZID=America/New_York:20261006T150000
DTEND;TZID=America/New_York:20261006T160000
DTSTAMP:20260425T114447
CREATED:20210401T142328Z
LAST-MODIFIED:20210401T142328Z
UID:84948-1791298800-1791302400@livehealthymiamigardens.com
SUMMARY:Let's Talk Health! | Every Tuesday @3pm
DESCRIPTION:Let’s Talk Health!\nJoin our Community Conversations on Building a Healthier Miami Gardens.\nTuesdays at 3PM \nBroadcasts virtually on:\nFacebook Live & Youtube Live
URL:http://livehealthymiamigardens.com/event/lets-talk-health-2026-10-06/
LOCATION:Virtual
ATTACH;FMTTYPE=image/jpeg:http://livehealthymiamigardens.com/livehealthy/wp-content/uploads/2021/04/letstalkhealth-1920x1080-1.jpg
END:VEVENT
BEGIN:VEVENT
DTSTART;TZID=America/New_York:20261013T093000
DTEND;TZID=America/New_York:20261013T233000
DTSTAMP:20260425T114447
CREATED:20220519T171243Z
LAST-MODIFIED:20220519T171243Z
UID:84950-1791883800-1791934200@livehealthymiamigardens.com
SUMMARY:Host Council Meeting
DESCRIPTION:
URL:http://livehealthymiamigardens.com/event/host-council-meeting-3-2026-10-13/
LOCATION:Zoom Conference
END:VEVENT
BEGIN:VEVENT
DTSTART;TZID=America/New_York:20261013T150000
DTEND;TZID=America/New_York:20261013T160000
DTSTAMP:20260425T114447
CREATED:20210401T142328Z
LAST-MODIFIED:20210401T142328Z
UID:84949-1791903600-1791907200@livehealthymiamigardens.com
SUMMARY:Let's Talk Health! | Every Tuesday @3pm
DESCRIPTION:Let’s Talk Health!\nJoin our Community Conversations on Building a Healthier Miami Gardens.\nTuesdays at 3PM \nBroadcasts virtually on:\nFacebook Live & Youtube Live
URL:http://livehealthymiamigardens.com/event/lets-talk-health-2026-10-13/
LOCATION:Virtual
ATTACH;FMTTYPE=image/jpeg:http://livehealthymiamigardens.com/livehealthy/wp-content/uploads/2021/04/letstalkhealth-1920x1080-1.jpg
END:VEVENT
BEGIN:VEVENT
DTSTART;TZID=America/New_York:20261014T173000
DTEND;TZID=America/New_York:20261014T190000
DTSTAMP:20260425T114447
CREATED:20220519T183316Z
LAST-MODIFIED:20220519T183316Z
UID:84951-1791999000-1792004400@livehealthymiamigardens.com
SUMMARY:City Council Meeting
DESCRIPTION:
URL:http://livehealthymiamigardens.com/event/city-council-meeting-2026-10-14/
END:VEVENT
BEGIN:VEVENT
DTSTART;TZID=America/New_York:20261015T100000
DTEND;TZID=America/New_York:20261015T120000
DTSTAMP:20260425T114447
CREATED:20220519T172134Z
LAST-MODIFIED:20220519T172134Z
UID:84954-1792058400-1792065600@livehealthymiamigardens.com
SUMMARY:Data and Evaluation Committee Meeting
DESCRIPTION:
URL:http://livehealthymiamigardens.com/event/data-and-evaluation-committee-meeting-3-2026-10-15/
END:VEVENT
BEGIN:VEVENT
DTSTART;TZID=America/New_York:20261015T130000
DTEND;TZID=America/New_York:20261015T150000
DTSTAMP:20260425T114447
CREATED:20220519T171450Z
LAST-MODIFIED:20220519T171450Z
UID:84953-1792069200-1792076400@livehealthymiamigardens.com
SUMMARY:Physical Activity and Nutrition
DESCRIPTION:
URL:http://livehealthymiamigardens.com/event/physical-activity-and-nutrition-2-2026-10-15/
END:VEVENT
BEGIN:VEVENT
DTSTART;TZID=America/New_York:20261015T130000
DTEND;TZID=America/New_York:20261015T150000
DTSTAMP:20260425T114447
CREATED:20220519T171450Z
LAST-MODIFIED:20220519T171450Z
UID:84955-1792069200-1792076400@livehealthymiamigardens.com
SUMMARY:Physical Activity and Nutrition
DESCRIPTION:
URL:http://livehealthymiamigardens.com/event/physical-activity-and-nutrition-2-2024-05-16-2026-10-15/
END:VEVENT
BEGIN:VEVENT
DTSTART;TZID=America/New_York:20261020T150000
DTEND;TZID=America/New_York:20261020T160000
DTSTAMP:20260425T114447
CREATED:20210401T142328Z
LAST-MODIFIED:20210401T142328Z
UID:84957-1792508400-1792512000@livehealthymiamigardens.com
SUMMARY:Let's Talk Health! | Every Tuesday @3pm
DESCRIPTION:Let’s Talk Health!\nJoin our Community Conversations on Building a Healthier Miami Gardens.\nTuesdays at 3PM \nBroadcasts virtually on:\nFacebook Live & Youtube Live
URL:http://livehealthymiamigardens.com/event/lets-talk-health-2026-10-20/
LOCATION:Virtual
ATTACH;FMTTYPE=image/jpeg:http://livehealthymiamigardens.com/livehealthy/wp-content/uploads/2021/04/letstalkhealth-1920x1080-1.jpg
END:VEVENT
BEGIN:VEVENT
DTSTART;TZID=America/New_York:20261021T153000
DTEND;TZID=America/New_York:20261021T163000
DTSTAMP:20260425T114447
CREATED:20220519T195815Z
LAST-MODIFIED:20220519T195815Z
UID:84958-1792596600-1792600200@livehealthymiamigardens.com
SUMMARY:Communication Committee
DESCRIPTION:
URL:http://livehealthymiamigardens.com/event/communication-committee-2026-10-21/
END:VEVENT
BEGIN:VEVENT
DTSTART;TZID=America/New_York:20261022T093000
DTEND;TZID=America/New_York:20261022T113000
DTSTAMP:20260425T114447
CREATED:20220519T172342Z
LAST-MODIFIED:20220519T172342Z
UID:84959-1792661400-1792668600@livehealthymiamigardens.com
SUMMARY:Primary Health and Mental Health Sub-Council Meeting
DESCRIPTION:
URL:http://livehealthymiamigardens.com/event/primary-health-and-mental-health-sub-council-meeting-2026-10-22/
END:VEVENT
BEGIN:VEVENT
DTSTART;TZID=America/New_York:20261027T150000
DTEND;TZID=America/New_York:20261027T160000
DTSTAMP:20260425T114447
CREATED:20210401T142328Z
LAST-MODIFIED:20210401T142328Z
UID:84961-1793113200-1793116800@livehealthymiamigardens.com
SUMMARY:Let's Talk Health! | Every Tuesday @3pm
DESCRIPTION:Let’s Talk Health!\nJoin our Community Conversations on Building a Healthier Miami Gardens.\nTuesdays at 3PM \nBroadcasts virtually on:\nFacebook Live & Youtube Live
URL:http://livehealthymiamigardens.com/event/lets-talk-health-2026-10-27/
LOCATION:Virtual
ATTACH;FMTTYPE=image/jpeg:http://livehealthymiamigardens.com/livehealthy/wp-content/uploads/2021/04/letstalkhealth-1920x1080-1.jpg
END:VEVENT
BEGIN:VEVENT
DTSTART;TZID=America/New_York:20261028T140000
DTEND;TZID=America/New_York:20261028T150000
DTSTAMP:20260425T114447
CREATED:20220519T172535Z
LAST-MODIFIED:20220519T172535Z
UID:84962-1793196000-1793199600@livehealthymiamigardens.com
SUMMARY:Healthy Retail Subcommittee
DESCRIPTION:
URL:http://livehealthymiamigardens.com/event/healthy-retail-subcommittee-2026-10-28/
END:VEVENT
BEGIN:VEVENT
DTSTART;TZID=America/New_York:20261103T150000
DTEND;TZID=America/New_York:20261103T160000
DTSTAMP:20260425T114447
CREATED:20210401T142328Z
LAST-MODIFIED:20210401T142328Z
UID:84963-1793718000-1793721600@livehealthymiamigardens.com
SUMMARY:Let's Talk Health! | Every Tuesday @3pm
DESCRIPTION:Let’s Talk Health!\nJoin our Community Conversations on Building a Healthier Miami Gardens.\nTuesdays at 3PM \nBroadcasts virtually on:\nFacebook Live & Youtube Live
URL:http://livehealthymiamigardens.com/event/lets-talk-health-2026-11-03/
LOCATION:Virtual
ATTACH;FMTTYPE=image/jpeg:http://livehealthymiamigardens.com/livehealthy/wp-content/uploads/2021/04/letstalkhealth-1920x1080-1.jpg
END:VEVENT
BEGIN:VEVENT
DTSTART;TZID=America/New_York:20261110T093000
DTEND;TZID=America/New_York:20261110T233000
DTSTAMP:20260425T114447
CREATED:20220519T171243Z
LAST-MODIFIED:20220519T171243Z
UID:84966-1794303000-1794353400@livehealthymiamigardens.com
SUMMARY:Host Council Meeting
DESCRIPTION:
URL:http://livehealthymiamigardens.com/event/host-council-meeting-3-2026-11-10/
LOCATION:Zoom Conference
END:VEVENT
BEGIN:VEVENT
DTSTART;TZID=America/New_York:20261110T150000
DTEND;TZID=America/New_York:20261110T160000
DTSTAMP:20260425T114447
CREATED:20210401T142328Z
LAST-MODIFIED:20210401T142328Z
UID:84965-1794322800-1794326400@livehealthymiamigardens.com
SUMMARY:Let's Talk Health! | Every Tuesday @3pm
DESCRIPTION:Let’s Talk Health!\nJoin our Community Conversations on Building a Healthier Miami Gardens.\nTuesdays at 3PM \nBroadcasts virtually on:\nFacebook Live & Youtube Live
URL:http://livehealthymiamigardens.com/event/lets-talk-health-2026-11-10/
LOCATION:Virtual
ATTACH;FMTTYPE=image/jpeg:http://livehealthymiamigardens.com/livehealthy/wp-content/uploads/2021/04/letstalkhealth-1920x1080-1.jpg
END:VEVENT
BEGIN:VEVENT
DTSTART;TZID=America/New_York:20261111T173000
DTEND;TZID=America/New_York:20261111T190000
DTSTAMP:20260425T114447
CREATED:20220519T183316Z
LAST-MODIFIED:20220519T183316Z
UID:84967-1794418200-1794423600@livehealthymiamigardens.com
SUMMARY:City Council Meeting
DESCRIPTION:
URL:http://livehealthymiamigardens.com/event/city-council-meeting-2026-11-11/
END:VEVENT
BEGIN:VEVENT
DTSTART;TZID=America/New_York:20261117T150000
DTEND;TZID=America/New_York:20261117T160000
DTSTAMP:20260425T114447
CREATED:20210401T142328Z
LAST-MODIFIED:20210401T142328Z
UID:84968-1794927600-1794931200@livehealthymiamigardens.com
SUMMARY:Let's Talk Health! | Every Tuesday @3pm
DESCRIPTION:Let’s Talk Health!\nJoin our Community Conversations on Building a Healthier Miami Gardens.\nTuesdays at 3PM \nBroadcasts virtually on:\nFacebook Live & Youtube Live
URL:http://livehealthymiamigardens.com/event/lets-talk-health-2026-11-17/
LOCATION:Virtual
ATTACH;FMTTYPE=image/jpeg:http://livehealthymiamigardens.com/livehealthy/wp-content/uploads/2021/04/letstalkhealth-1920x1080-1.jpg
END:VEVENT
BEGIN:VEVENT
DTSTART;TZID=America/New_York:20261118T153000
DTEND;TZID=America/New_York:20261118T163000
DTSTAMP:20260425T114447
CREATED:20220519T195815Z
LAST-MODIFIED:20220519T195815Z
UID:84969-1795015800-1795019400@livehealthymiamigardens.com
SUMMARY:Communication Committee
DESCRIPTION:
URL:http://livehealthymiamigardens.com/event/communication-committee-2026-11-18/
END:VEVENT
END:VCALENDAR