BEGIN:VCALENDAR
VERSION:2.0
PRODID:-//Live Healthy Miami Gardens - ECPv6.15.20//NONSGML v1.0//EN
CALSCALE:GREGORIAN
METHOD:PUBLISH
X-WR-CALNAME:Live Healthy Miami Gardens
X-ORIGINAL-URL:http://livehealthymiamigardens.com
X-WR-CALDESC:Events for Live Healthy Miami Gardens
REFRESH-INTERVAL;VALUE=DURATION:PT1H
X-Robots-Tag:noindex
X-PUBLISHED-TTL:PT1H
BEGIN:VTIMEZONE
TZID:America/New_York
BEGIN:DAYLIGHT
TZOFFSETFROM:-0500
TZOFFSETTO:-0400
TZNAME:EDT
DTSTART:20240310T070000
END:DAYLIGHT
BEGIN:STANDARD
TZOFFSETFROM:-0400
TZOFFSETTO:-0500
TZNAME:EST
DTSTART:20241103T060000
END:STANDARD
BEGIN:DAYLIGHT
TZOFFSETFROM:-0500
TZOFFSETTO:-0400
TZNAME:EDT
DTSTART:20250309T070000
END:DAYLIGHT
BEGIN:STANDARD
TZOFFSETFROM:-0400
TZOFFSETTO:-0500
TZNAME:EST
DTSTART:20251102T060000
END:STANDARD
BEGIN:DAYLIGHT
TZOFFSETFROM:-0500
TZOFFSETTO:-0400
TZNAME:EDT
DTSTART:20260308T070000
END:DAYLIGHT
BEGIN:STANDARD
TZOFFSETFROM:-0400
TZOFFSETTO:-0500
TZNAME:EST
DTSTART:20261101T060000
END:STANDARD
END:VTIMEZONE
BEGIN:VEVENT
DTSTART;TZID=America/New_York:20250220T100000
DTEND;TZID=America/New_York:20250220T120000
DTSTAMP:20260425T091152
CREATED:20220519T172134Z
LAST-MODIFIED:20220519T172134Z
UID:84472-1740045600-1740052800@livehealthymiamigardens.com
SUMMARY:Data and Evaluation Committee Meeting
DESCRIPTION:
URL:http://livehealthymiamigardens.com/event/data-and-evaluation-committee-meeting-3-2025-02-20/
END:VEVENT
BEGIN:VEVENT
DTSTART;TZID=America/New_York:20250220T130000
DTEND;TZID=America/New_York:20250220T150000
DTSTAMP:20260425T091152
CREATED:20220519T171450Z
LAST-MODIFIED:20220519T171450Z
UID:84471-1740056400-1740063600@livehealthymiamigardens.com
SUMMARY:Physical Activity and Nutrition
DESCRIPTION:
URL:http://livehealthymiamigardens.com/event/physical-activity-and-nutrition-2-2025-02-20/
END:VEVENT
BEGIN:VEVENT
DTSTART;TZID=America/New_York:20250220T130000
DTEND;TZID=America/New_York:20250220T150000
DTSTAMP:20260425T091152
CREATED:20220519T171450Z
LAST-MODIFIED:20220519T171450Z
UID:84473-1740056400-1740063600@livehealthymiamigardens.com
SUMMARY:Physical Activity and Nutrition
DESCRIPTION:
URL:http://livehealthymiamigardens.com/event/physical-activity-and-nutrition-2-2024-05-16-2025-02-20/
END:VEVENT
END:VCALENDAR